{"text_format":"3","workbook":"xlsx","n_sheets":5,"sheets":["基本入力","申込一覧（様式１）","リレー申込（様式2）","NANS競技者データ","CODE"],"not_rendered":{"external_links":1,"defined_names":11,"comments":2},"read":"whole","date_system":"1900"}

{"sheet":"基本入力","index":0,"n_rows":24,"n_cols":11,"rows_kept":24,"merged":[[11,1,17,1]]}
["大会名","第17回北海道高等学校体育連盟空知支部陸上競技選手権大会",{"$nulls":7},"学校名","略校名"]
["学校名",null,"←学校名をリストから選択してください",{"$nulls":5},1,"北海道岩見沢農業高等学校","岩見沢農業高"]
["顧問名①",null,"←顧問名を入力してください",{"$nulls":5},2,"北海道滝川高等学校","滝川高"]
["顧問名②",{"$nulls":7},3,"北海道滝川西高等学校","滝川西高"]
["顧問名③",{"$nulls":7},4,"北海道岩見沢東高等学校","岩見沢東高"]
["郵便番号",null,"←郵便番号を入力してください（全角）",{"$nulls":5},5,"北海道岩見沢緑陵高等学校","岩見沢緑陵高"]
["学校住所",null,"←住所を入力してください",{"$nulls":5},6,"北海道芦別高等学校","芦別高"]
["学校電話",null,"←電話番号を入力してください（全角）",{"$nulls":5},7,"北海道美唄尚栄高等学校","美唄尚栄高"]
["校長名",null,"←校長名を入力してください",{"$nulls":5},8,"北海道岩見沢西高等学校","岩見沢西高"]
["略校名",null,"←略校名をリストから選択してください",{"$nulls":5},9,"北海道栗山高等学校","砂川高"]
[{"$nulls":8},10,"北海道砂川高等学校","深川西高"]
[{"$nulls":8},11,"北海道深川西高等学校","深川東高"]
[{"$nulls":8},12,"北海道深川東高等学校","滝川工業高"]
[{"$nulls":8},13,"北海道滝川工業高等学校","月形高"]
[{"$nulls":8},14,"北海道月形高等学校","長沼高"]
[{"$nulls":8},15,"北海道奈井江商業高等学校","美唄聖華高"]
[{"$nulls":8},16,"北海道長沼高等学校","夕張高"]
[{"$nulls":8},17,"北海道南幌高等学校","三笠高"]
[{"$nulls":8},18,"北海道美唄聖華高等学校","南幌高"]
[{"$nulls":8},19,"北海道夕張高等学校","奈井江商業高"]
[{"$nulls":8},20,"北海道新十津川農業高等学校","栗山高"]
[{"$nulls":8},21,"北海道三笠高等学校","新十津川農業高"]
[{"$nulls":8},22,"クラーク記念国際高等学校","クラーク記念国際高"]
[{"$nulls":8},23,"北海道雨竜高等養護高等学校"]

{"sheet":"申込一覧（様式１）","index":1,"n_rows":41,"n_cols":20,"rows_kept":41,"merged":[[0,0,0,8],[0,9,0,12],[1,0,1,12],[1,15,1,16],[2,0,4,0],[2,1,4,2],[2,3,4,3],[2,4,2,5],[2,6,3,6],[2,7,2,12],[2,14,5,14],[2,15,5,15],[2,16,5,16],[3,4,3,5],[3,7,3,12],[4,4,4,5],[4,7,4,12],[38,0,38,12],[39,0,39,1],[39,2,39,9],[39,10,39,12],[40,0,40,3],[40,5,40,6],[40,7,40,8],[40,9,40,11]]}
[{"$f":"基本入力!$B$1","v":"第17回北海道高等学校体育連盟空知支部陸上競技選手権大会"},{"$nulls":8},"参加申込一覧表（女子）（様式１）"]
["参　　　加　　　選　　　手　　　一　　　覧　　　表",{"$nulls":14},{"$f":"IF(B3=\"\",\"\",B3)","v":""}]
["学校名",{"$f":"IF(基本入力!B10=\"\",\"\",基本入力!$B$10)","v":""},null,"顧問名",{"$f":"IF(基本入力!B3=\"\",\"\",基本入力!$B$3)","v":""},null,"学校所在地　　　　　　　",{"$f":"IF(基本入力!B6=\"\",\"\",基本入力!$B$6)","v":""},{"$nulls":6},"種目","エントリー数","エントリー数\nチェック"]
[{"$nulls":4},{"$f":"IF(基本入力!B4=\"\",\"\",基本入力!$B$4)","v":""},null,null,{"$f":"IF(基本入力!B7=\"\",\"\",基本入力!$B$7)","v":""}]
[{"$nulls":4},{"$f":"IF(基本入力!B5=\"\",\"\",基本入力!$B$5)","v":""},null,"電話番号",{"$f":"IF(基本入力!B8=\"\",\"\",基本入力!$B$8)","v":""}]
[]
["番号","氏　　　　名","ﾌﾘｶﾞﾅ","学年","高校名","出場種目①","最高記録","出場種目②","最高記録","出場種目③","最高記録","4×100mR","4×400mR",null,"１００ｍ",{"$f":"COUNTIF($F$8:$M$37,O7)","v":0},{"$f":"IF(P7>3,\"4人以上エントリーしてます！！\",\"ＯＫ\")","v":"ＯＫ"},null,"滝川高","〇"]
[{"$nulls":4},{"$f":"IF(A8=\"\",\"\",基本入力!$B$10)","v":""},{"$nulls":8},1,"２００ｍ",{"$f":"COUNTIF($F$8:$M$37,O8)","v":0},{"$f":"IF(P8>3,\"4人以上エントリーしてます！！\",\"ＯＫ\")","v":"ＯＫ"},null,"滝川西高"]
[{"$nulls":4},{"$f":"IF(A9=\"\",\"\",基本入力!$B$10)","v":""},{"$nulls":8},2,"４００ｍ",0,"ＯＫ",null,"岩見沢東高"]
[{"$nulls":4},{"$f":"IF(A10=\"\",\"\",基本入力!$B$10)","v":""},{"$nulls":8},3,"８００ｍ",0,"ＯＫ",null,"岩見沢緑陵高"]
[{"$nulls":4},{"$f":"IF(A11=\"\",\"\",基本入力!$B$10)","v":""},{"$nulls":8},4,"１５００ｍ",0,"ＯＫ",null,"芦別高"]
[{"$nulls":4},{"$f":"IF(A12=\"\",\"\",基本入力!$B$10)","v":""},{"$nulls":8},5,"３０００ｍ",0,"ＯＫ",null,"美唄尚栄高"]
[{"$nulls":4},{"$f":"IF(A13=\"\",\"\",基本入力!$B$10)","v":""},{"$nulls":8},6,"１００ｍH",0,"ＯＫ",null,"岩見沢西高"]
[{"$nulls":4},{"$f":"IF(A14=\"\",\"\",基本入力!$B$10)","v":""},{"$nulls":8},7,"４００ｍH",0,"ＯＫ",null,"砂川高"]
[{"$nulls":4},{"$f":"IF(A15=\"\",\"\",基本入力!$B$10)","v":""},{"$nulls":8},8,"５０００ｍW",0,"ＯＫ",null,"深川西高"]
[{"$nulls":4},{"$f":"IF(A16=\"\",\"\",基本入力!$B$10)","v":""},{"$nulls":8},9,"走高跳",{"$f":"COUNTIF($F$8:$M$37,O16)","v":0},"ＯＫ",null,"深川東高"]
[{"$nulls":4},{"$f":"IF(A17=\"\",\"\",基本入力!$B$10)","v":""},{"$nulls":8},10,"棒高跳",0,"ＯＫ",null,"滝川工業高"]
[{"$nulls":4},{"$f":"IF(A18=\"\",\"\",基本入力!$B$10)","v":""},{"$nulls":8},11,"走幅跳",0,"ＯＫ",null,"月形高"]
[{"$nulls":4},{"$f":"IF(A19=\"\",\"\",基本入力!$B$10)","v":""},{"$nulls":8},12,"三段跳",0,"ＯＫ",null,"長沼高"]
[{"$nulls":4},{"$f":"IF(A20=\"\",\"\",基本入力!$B$10)","v":""},{"$nulls":8},13,"砲丸投",0,"ＯＫ",null,"美唄聖華高"]
[{"$nulls":4},{"$f":"IF(A21=\"\",\"\",基本入力!$B$10)","v":""},{"$nulls":8},14,"円盤投",0,"ＯＫ",null,"夕張高"]
[{"$nulls":4},{"$f":"IF(A22=\"\",\"\",基本入力!$B$10)","v":""},{"$nulls":8},15,"ハンマー投",0,"ＯＫ",null,"三笠高"]
[{"$nulls":4},{"$f":"IF(A23=\"\",\"\",基本入力!$B$10)","v":""},{"$nulls":8},16,"やり投",0,"ＯＫ",null,"南幌高"]
[{"$nulls":4},{"$f":"IF(A24=\"\",\"\",基本入力!$B$10)","v":""},{"$nulls":8},17,"七種競技",{"$f":"COUNTIF($F$8:$M$37,O24)","v":0},"ＯＫ",null,"奈井江商業高"]
[{"$nulls":4},{"$f":"IF(A25=\"\",\"\",基本入力!$B$10)","v":""},{"$nulls":8},18,"4×100mR",{"$f":"COUNTIF($L$8:$L$37,T7)","v":0},{"$f":"IF(P25>=7,\"7人以上エントリーしてます！！\",\"ＯＫ\")","v":"ＯＫ"},null,"栗山高"]
[{"$nulls":4},{"$f":"IF(A26=\"\",\"\",基本入力!$B$10)","v":""},{"$nulls":8},19,"４×400mR",{"$f":"COUNTIF($M$8:$M$37,T7)","v":0},{"$f":"IF(P26>=7,\"7人以上エントリーしてます！！\",\"ＯＫ\")","v":"ＯＫ"},null,"新十津川農業高"]
[{"$nulls":4},{"$f":"IF(A27=\"\",\"\",基本入力!$B$10)","v":""},{"$nulls":8},20]
[{"$nulls":4},{"$f":"IF(A28=\"\",\"\",基本入力!$B$10)","v":""},{"$nulls":8},21]
[{"$nulls":4},{"$f":"IF(A29=\"\",\"\",基本入力!$B$10)","v":""},{"$nulls":8},22]
[{"$nulls":4},{"$f":"IF(A30=\"\",\"\",基本入力!$B$10)","v":""},{"$nulls":8},23]
[{"$nulls":4},{"$f":"IF(A31=\"\",\"\",基本入力!$B$10)","v":""},{"$nulls":8},24]
[{"$nulls":4},{"$f":"IF(A32=\"\",\"\",基本入力!$B$10)","v":""},{"$nulls":8},25]
[{"$nulls":4},{"$f":"IF(A33=\"\",\"\",基本入力!$B$10)","v":""},{"$nulls":8},26]
[{"$nulls":4},{"$f":"IF(A34=\"\",\"\",基本入力!$B$10)","v":""},{"$nulls":8},27]
[{"$nulls":4},{"$f":"IF(A35=\"\",\"\",基本入力!$B$10)","v":""},{"$nulls":8},28]
[{"$nulls":4},{"$f":"IF(A36=\"\",\"\",基本入力!$B$10)","v":""},{"$nulls":8},29]
[{"$nulls":4},{"$f":"IF(A37=\"\",\"\",基本入力!$B$10)","v":""},{"$nulls":8},30]
[]
["学　校　長　参　加　承　諾　書"]
["上記のとおり",null,{"$f":"基本入力!$B$1","v":"第17回北海道高等学校体育連盟空知支部陸上競技選手権大会"},{"$nulls":7},"に参加申込いたします。"]
[{"$f":"TODAY()","v":"2024-04-16"},{"$nulls":6},"学校長名",null,{"$f":"IF(基本入力!B9=\"\",\"\",基本入力!B9)","v":""},null,null,"印"]

{"sheet":"リレー申込（様式2）","index":2,"n_rows":53,"n_cols":25,"rows_kept":53,"merged":[[1,2,1,32],[4,3,4,9],[4,10,5,13],[4,14,4,31],[5,3,5,9],[5,14,5,31],[6,3,7,7],[6,8,6,20],[6,21,7,23],[6,24,7,31],[7,8,7,20],[8,3,10,7],[8,8,8,20],[8,21,10,23],[8,24,25,31],[9,8,10,20],[11,3,13,7],[11,8,11,20],[11,21,13,23],[12,8,13,20],[14,3,16,7],[14,8,14,20],[14,21,16,23],[15,8,16,20],[17,3,19,7],[17,8,17,20],[17,21,19,23],[18,8,19,20],[20,3,22,7],[20,8,20,20],[20,21,22,23],[21,8,22,20],[23,3,25,7],[23,8,23,20],[23,21,25,23],[24,8,25,20],[27,2,27,32],[29,2,29,32],[32,3,32,9],[32,10,33,13],[32,14,32,31],[33,3,33,9],[33,14,33,31],[34,3,35,7],[34,8,34,20],[34,21,35,23],[34,24,35,31],[35,8,35,20],[36,3,38,7],[36,8,36,20],[36,21,38,23],[36,24,53,31],[37,8,38,20],[39,3,41,7],[39,8,39,20],[39,21,41,23],[40,8,41,20],[42,3,44,7],[42,8,42,20],[42,21,44,23],[43,8,44,20],[45,3,47,7],[45,8,45,20],[45,21,47,23],[46,8,47,20],[48,3,50,7],[48,8,48,20],[48,21,50,23],[49,8,50,20],[51,3,53,7],[51,8,51,20],[51,21,53,23],[52,8,53,20]]}
[]
[null,null,{"$f":"基本入力!$B$1","v":"第17回北海道高等学校体育連盟空知支部陸上競技選手権大会"}]
[{"$nulls":20},"リレー申込書（様式２）"]
[]
[{"$nulls":3},"種　　目",{"$nulls":6},"女",{"$nulls":3},"最　高　記　録"]
[{"$nulls":3},"４×１００MR"]
[{"$nulls":3},"番　　号",{"$nulls":4},"（ﾌﾘｶﾞﾅ）",{"$nulls":12},"学年",null,null,"学校名"]
[{"$nulls":8},"氏　　　　　　名"]
[{"$nulls":8},{"$f":"IF(D9=\"\",\"\",VLOOKUP(D9,'申込一覧（様式１）'!$A$7:$D$37,3))","v":""},{"$nulls":12},{"$f":"IF(D9=\"\",\"\",VLOOKUP(D9,'申込一覧（様式１）'!$A$7:$D$37,4))","v":""},null,null,{"$f":"IF(基本入力!$B$10=\"\",\"\",基本入力!$B$10)","v":""}]
[{"$nulls":8},{"$f":"IF(D9=\"\",\"\",VLOOKUP(D9,'申込一覧（様式１）'!$A$7:$D$37,2))","v":""}]
[]
[{"$nulls":8},{"$f":"IF(D12=\"\",\"\",VLOOKUP(D12,'申込一覧（様式１）'!$A$7:$D$37,3))","v":""},{"$nulls":12},{"$f":"IF(D12=\"\",\"\",VLOOKUP(D12,'申込一覧（様式１）'!$A$7:$D$37,4))","v":""}]
[{"$nulls":8},{"$f":"IF(D12=\"\",\"\",VLOOKUP(D12,'申込一覧（様式１）'!$A$7:$D$37,2))","v":""}]
[]
[{"$nulls":8},{"$f":"IF(D15=\"\",\"\",VLOOKUP(D15,'申込一覧（様式１）'!$A$7:$D$37,3))","v":""},{"$nulls":12},{"$f":"IF(D15=\"\",\"\",VLOOKUP(D15,'申込一覧（様式１）'!$A$7:$D$37,4))","v":""}]
[{"$nulls":8},{"$f":"IF(D15=\"\",\"\",VLOOKUP(D15,'申込一覧（様式１）'!$A$7:$D$37,2))","v":""}]
[]
[{"$nulls":8},{"$f":"IF(D18=\"\",\"\",VLOOKUP(D18,'申込一覧（様式１）'!$A$7:$D$37,3))","v":""},{"$nulls":12},{"$f":"IF(D18=\"\",\"\",VLOOKUP(D18,'申込一覧（様式１）'!$A$7:$D$37,4))","v":""}]
[{"$nulls":8},{"$f":"IF(D18=\"\",\"\",VLOOKUP(D18,'申込一覧（様式１）'!$A$7:$D$37,2))","v":""}]
[]
[{"$nulls":8},{"$f":"IF(D21=\"\",\"\",VLOOKUP(D21,'申込一覧（様式１）'!$A$7:$D$37,3))","v":""},{"$nulls":12},{"$f":"IF(D21=\"\",\"\",VLOOKUP(D21,'申込一覧（様式１）'!$A$7:$D$37,4))","v":""}]
[{"$nulls":8},{"$f":"IF(D21=\"\",\"\",VLOOKUP(D21,'申込一覧（様式１）'!$A$7:$D$37,2))","v":""}]
[]
[{"$nulls":8},{"$f":"IF(D24=\"\",\"\",VLOOKUP(D24,'申込一覧（様式１）'!$A$7:$D$37,3))","v":""},{"$nulls":12},{"$f":"IF(D24=\"\",\"\",VLOOKUP(D24,'申込一覧（様式１）'!$A$7:$D$37,4))","v":""}]
[{"$nulls":8},{"$f":"IF(D24=\"\",\"\",VLOOKUP(D24,'申込一覧（様式１）'!$A$7:$D$37,2))","v":""}]
[]
[]
[null,null,"------------------------------------きりとり------------------------------------"]
[]
[null,null,{"$f":"基本入力!$B$1","v":"第17回北海道高等学校体育連盟空知支部陸上競技選手権大会"}]
[{"$nulls":20},"リレー申込書（様式２）"]
[]
[{"$nulls":3},"種　　目",{"$nulls":6},"女",{"$nulls":3},"最　高　記　録"]
[{"$nulls":3},"４×４００MR"]
[{"$nulls":3},"番　　号",{"$nulls":4},"（ﾌﾘｶﾞﾅ）",{"$nulls":12},"学年",null,null,"学校名"]
[{"$nulls":8},"氏　　　　　　名"]
[{"$nulls":8},{"$f":"IF(D37=\"\",\"\",VLOOKUP(D37,'申込一覧（様式１）'!$A$7:$D$37,3))","v":""},{"$nulls":12},{"$f":"IF(D37=\"\",\"\",VLOOKUP(D37,'申込一覧（様式１）'!$A$7:$D$37,4))","v":""},null,null,{"$f":"IF(基本入力!$B$10=\"\",\"\",基本入力!$B$10)","v":""}]
[{"$nulls":8},{"$f":"IF(D37=\"\",\"\",VLOOKUP(D37,'申込一覧（様式１）'!$A$7:$D$37,2))","v":""}]
[]
[{"$nulls":8},{"$f":"IF(D40=\"\",\"\",VLOOKUP(D40,'申込一覧（様式１）'!$A$7:$D$37,3))","v":""},{"$nulls":12},{"$f":"IF(D40=\"\",\"\",VLOOKUP(D40,'申込一覧（様式１）'!$A$7:$D$37,4))","v":""}]
[{"$nulls":8},{"$f":"IF(D40=\"\",\"\",VLOOKUP(D40,'申込一覧（様式１）'!$A$7:$D$37,2))","v":""}]
[]
[{"$nulls":8},{"$f":"IF(D43=\"\",\"\",VLOOKUP(D43,'申込一覧（様式１）'!$A$7:$D$37,3))","v":""},{"$nulls":12},{"$f":"IF(D43=\"\",\"\",VLOOKUP(D43,'申込一覧（様式１）'!$A$7:$D$37,4))","v":""}]
[{"$nulls":8},{"$f":"IF(D43=\"\",\"\",VLOOKUP(D43,'申込一覧（様式１）'!$A$7:$D$37,2))","v":""}]
[]
[{"$nulls":8},{"$f":"IF(D46=\"\",\"\",VLOOKUP(D46,'申込一覧（様式１）'!$A$7:$D$37,3))","v":""},{"$nulls":12},{"$f":"IF(D46=\"\",\"\",VLOOKUP(D46,'申込一覧（様式１）'!$A$7:$D$37,4))","v":""}]
[{"$nulls":8},{"$f":"IF(D46=\"\",\"\",VLOOKUP(D46,'申込一覧（様式１）'!$A$7:$D$37,2))","v":""}]
[]
[{"$nulls":8},{"$f":"IF(D49=\"\",\"\",VLOOKUP(D49,'申込一覧（様式１）'!$A$7:$D$37,3))","v":""},{"$nulls":12},{"$f":"IF(D49=\"\",\"\",VLOOKUP(D49,'申込一覧（様式１）'!$A$7:$D$37,4))","v":""}]
[{"$nulls":8},{"$f":"IF(D49=\"\",\"\",VLOOKUP(D49,'申込一覧（様式１）'!$A$7:$D$37,2))","v":""}]
[]
[{"$nulls":8},{"$f":"IF(D52=\"\",\"\",VLOOKUP(D52,'申込一覧（様式１）'!$A$7:$D$37,3))","v":""},{"$nulls":12},{"$f":"IF(D52=\"\",\"\",VLOOKUP(D52,'申込一覧（様式１）'!$A$7:$D$37,4))","v":""}]
[{"$nulls":8},{"$f":"IF(D52=\"\",\"\",VLOOKUP(D52,'申込一覧（様式１）'!$A$7:$D$37,2))","v":""}]

{"sheet":"NANS競技者データ","index":3,"n_rows":31,"n_cols":36,"rows_kept":31,"hidden":true}
["競技者NO","所属コード1","所属コード2","ナンバー","ナンバー2","競技者名","競技者名カナ","競技者名略称","競技者名英字","国籍","性別","学年","生年","月日","個人所属地名","陸連コード","参加競技-競技コード1","参加競技-自己記録1","参加競技-オープン参加FLG1","参加競技-記録FLG1","参加競技-競技コード2","参加競技-自己記録2","参加競技-オープン参加FLG2","参加競技-記録FLG2","参加競技-競技コード3","参加競技-自己記録3","参加競技-オープン参加FLG3","参加競技-記録FLG3","参加競技-競技コード4","参加競技-自己記録4","参加競技-オープン参加FLG4","参加競技-記録FLG4","参加競技-競技コード5","参加競技-自己記録5","参加競技-オープン参加FLG5","参加競技-記録FLG5"]
[1,{"$f":"IF('申込一覧（様式１）'!E8=\"\",\"\",VLOOKUP('申込一覧（様式１）'!E8,CODE!$F$59:$G$80,2,FALSE))","v":""},null,null,{"$f":"IF('申込一覧（様式１）'!A8=\"\",\"\",'申込一覧（様式１）'!A8)","v":""},{"$f":"IF('申込一覧（様式１）'!B8=\"\",\"\",'申込一覧（様式１）'!B8)","v":""},{"$f":"IF('申込一覧（様式１）'!C8=\"\",\"\",'申込一覧（様式１）'!C8)","v":""},{"$f":"F2","v":""},null,null,{"$f":"IF(E2=\"\",\"\",2)","v":""},{"$f":"IF('申込一覧（様式１）'!D8=\"\",\"\",'申込一覧（様式１）'!D8)","v":""},null,0,"空知",49,{"$f":"IF('申込一覧（様式１）'!F8=\"\",\"\",VLOOKUP('申込一覧（様式１）'!F8,CODE!$P$3:$R$39,2,FALSE))","v":""},{"$f":"IF('申込一覧（様式１）'!G8=\"\",\"\",'申込一覧（様式１）'!G8)","v":""},{"$f":"IF(Q2=\"\",\"\",0)","v":""},{"$f":"IF('申込一覧（様式１）'!F8=\"\",\"\",VLOOKUP('申込一覧（様式１）'!F8,CODE!$P$3:$R$39,3,FALSE))","v":""},{"$f":"IF('申込一覧（様式１）'!H8=\"\",\"\",VLOOKUP('申込一覧（様式１）'!H8,CODE!$P$3:$R$39,2,FALSE))","v":""},{"$f":"IF('申込一覧（様式１）'!I8=\"\",\"\",'申込一覧（様式１）'!I8)","v":""},{"$f":"IF('申込一覧（様式１）'!H8=\"\",\"\",0)","v":""},{"$f":"IF('申込一覧（様式１）'!H8=\"\",\"\",VLOOKUP('申込一覧（様式１）'!H8,CODE!$P$3:$R$39,3,FALSE))","v":""},{"$f":"IF('申込一覧（様式１）'!J8=\"\",\"\",VLOOKUP('申込一覧（様式１）'!J8,CODE!$P$3:$R$39,2,FALSE))","v":""},{"$f":"IF('申込一覧（様式１）'!K8=\"\",\"\",'申込一覧（様式１）'!K8)","v":""},{"$f":"IF('申込一覧（様式１）'!J8=\"\",\"\",0)","v":""},{"$f":"IF('申込一覧（様式１）'!J8=\"\",\"\",VLOOKUP('申込一覧（様式１）'!J8,CODE!$P$3:$R$39,3,FALSE))","v":""}]
[2,{"$f":"IF('申込一覧（様式１）'!E9=\"\",\"\",VLOOKUP('申込一覧（様式１）'!E9,CODE!$F$59:$G$80,2,FALSE))","v":""},null,null,{"$f":"IF('申込一覧（様式１）'!A9=\"\",\"\",'申込一覧（様式１）'!A9)","v":""},{"$f":"IF('申込一覧（様式１）'!B9=\"\",\"\",'申込一覧（様式１）'!B9)","v":""},{"$f":"IF('申込一覧（様式１）'!C9=\"\",\"\",'申込一覧（様式１）'!C9)","v":""},{"$f":"F3","v":""},null,null,{"$f":"IF(E3=\"\",\"\",2)","v":""},{"$f":"IF('申込一覧（様式１）'!D9=\"\",\"\",'申込一覧（様式１）'!D9)","v":""},null,0,"空知",49,{"$f":"IF('申込一覧（様式１）'!F9=\"\",\"\",VLOOKUP('申込一覧（様式１）'!F9,CODE!$P$3:$R$39,2,FALSE))","v":""},{"$f":"IF('申込一覧（様式１）'!G9=\"\",\"\",'申込一覧（様式１）'!G9)","v":""},{"$f":"IF(Q3=\"\",\"\",0)","v":""},{"$f":"IF('申込一覧（様式１）'!F9=\"\",\"\",VLOOKUP('申込一覧（様式１）'!F9,CODE!$P$3:$R$39,3,FALSE))","v":""},{"$f":"IF('申込一覧（様式１）'!H9=\"\",\"\",VLOOKUP('申込一覧（様式１）'!H9,CODE!$P$3:$R$39,2,FALSE))","v":""},{"$f":"IF('申込一覧（様式１）'!I9=\"\",\"\",'申込一覧（様式１）'!I9)","v":""},{"$f":"IF('申込一覧（様式１）'!H9=\"\",\"\",0)","v":""},{"$f":"IF('申込一覧（様式１）'!H9=\"\",\"\",VLOOKUP('申込一覧（様式１）'!H9,CODE!$P$3:$R$39,3,FALSE))","v":""},{"$f":"IF('申込一覧（様式１）'!J9=\"\",\"\",VLOOKUP('申込一覧（様式１）'!J9,CODE!$P$3:$R$39,2,FALSE))","v":""},{"$f":"IF('申込一覧（様式１）'!K9=\"\",\"\",'申込一覧（様式１）'!K9)","v":""},{"$f":"IF('申込一覧（様式１）'!J9=\"\",\"\",0)","v":""},{"$f":"IF('申込一覧（様式１）'!J9=\"\",\"\",VLOOKUP('申込一覧（様式１）'!J9,CODE!$P$3:$R$39,3,FALSE))","v":""}]
[3,{"$f":"IF('申込一覧（様式１）'!E10=\"\",\"\",VLOOKUP('申込一覧（様式１）'!E10,CODE!$F$59:$G$80,2,FALSE))","v":""},null,null,{"$f":"IF('申込一覧（様式１）'!A10=\"\",\"\",'申込一覧（様式１）'!A10)","v":""},{"$f":"IF('申込一覧（様式１）'!B10=\"\",\"\",'申込一覧（様式１）'!B10)","v":""},{"$f":"IF('申込一覧（様式１）'!C10=\"\",\"\",'申込一覧（様式１）'!C10)","v":""},"",null,null,"",{"$f":"IF('申込一覧（様式１）'!D10=\"\",\"\",'申込一覧（様式１）'!D10)","v":""},null,0,"空知",49,{"$f":"IF('申込一覧（様式１）'!F10=\"\",\"\",VLOOKUP('申込一覧（様式１）'!F10,CODE!$P$3:$R$39,2,FALSE))","v":""},{"$f":"IF('申込一覧（様式１）'!G10=\"\",\"\",'申込一覧（様式１）'!G10)","v":""},"",{"$f":"IF('申込一覧（様式１）'!F10=\"\",\"\",VLOOKUP('申込一覧（様式１）'!F10,CODE!$P$3:$R$39,3,FALSE))","v":""},{"$f":"IF('申込一覧（様式１）'!H10=\"\",\"\",VLOOKUP('申込一覧（様式１）'!H10,CODE!$P$3:$R$39,2,FALSE))","v":""},{"$f":"IF('申込一覧（様式１）'!I10=\"\",\"\",'申込一覧（様式１）'!I10)","v":""},{"$f":"IF('申込一覧（様式１）'!H10=\"\",\"\",0)","v":""},{"$f":"IF('申込一覧（様式１）'!H10=\"\",\"\",VLOOKUP('申込一覧（様式１）'!H10,CODE!$P$3:$R$39,3,FALSE))","v":""},{"$f":"IF('申込一覧（様式１）'!J10=\"\",\"\",VLOOKUP('申込一覧（様式１）'!J10,CODE!$P$3:$R$39,2,FALSE))","v":""},{"$f":"IF('申込一覧（様式１）'!K10=\"\",\"\",'申込一覧（様式１）'!K10)","v":""},{"$f":"IF('申込一覧（様式１）'!J10=\"\",\"\",0)","v":""},{"$f":"IF('申込一覧（様式１）'!J10=\"\",\"\",VLOOKUP('申込一覧（様式１）'!J10,CODE!$P$3:$R$39,3,FALSE))","v":""}]
[4,{"$f":"IF('申込一覧（様式１）'!E11=\"\",\"\",VLOOKUP('申込一覧（様式１）'!E11,CODE!$F$59:$G$80,2,FALSE))","v":""},null,null,{"$f":"IF('申込一覧（様式１）'!A11=\"\",\"\",'申込一覧（様式１）'!A11)","v":""},{"$f":"IF('申込一覧（様式１）'!B11=\"\",\"\",'申込一覧（様式１）'!B11)","v":""},{"$f":"IF('申込一覧（様式１）'!C11=\"\",\"\",'申込一覧（様式１）'!C11)","v":""},"",null,null,"",{"$f":"IF('申込一覧（様式１）'!D11=\"\",\"\",'申込一覧（様式１）'!D11)","v":""},null,0,"空知",49,{"$f":"IF('申込一覧（様式１）'!F11=\"\",\"\",VLOOKUP('申込一覧（様式１）'!F11,CODE!$P$3:$R$39,2,FALSE))","v":""},{"$f":"IF('申込一覧（様式１）'!G11=\"\",\"\",'申込一覧（様式１）'!G11)","v":""},"",{"$f":"IF('申込一覧（様式１）'!F11=\"\",\"\",VLOOKUP('申込一覧（様式１）'!F11,CODE!$P$3:$R$39,3,FALSE))","v":""},{"$f":"IF('申込一覧（様式１）'!H11=\"\",\"\",VLOOKUP('申込一覧（様式１）'!H11,CODE!$P$3:$R$39,2,FALSE))","v":""},{"$f":"IF('申込一覧（様式１）'!I11=\"\",\"\",'申込一覧（様式１）'!I11)","v":""},{"$f":"IF('申込一覧（様式１）'!H11=\"\",\"\",0)","v":""},{"$f":"IF('申込一覧（様式１）'!H11=\"\",\"\",VLOOKUP('申込一覧（様式１）'!H11,CODE!$P$3:$R$39,3,FALSE))","v":""},{"$f":"IF('申込一覧（様式１）'!J11=\"\",\"\",VLOOKUP('申込一覧（様式１）'!J11,CODE!$P$3:$R$39,2,FALSE))","v":""},{"$f":"IF('申込一覧（様式１）'!K11=\"\",\"\",'申込一覧（様式１）'!K11)","v":""},{"$f":"IF('申込一覧（様式１）'!J11=\"\",\"\",0)","v":""},{"$f":"IF('申込一覧（様式１）'!J11=\"\",\"\",VLOOKUP('申込一覧（様式１）'!J11,CODE!$P$3:$R$39,3,FALSE))","v":""}]
[5,{"$f":"IF('申込一覧（様式１）'!E12=\"\",\"\",VLOOKUP('申込一覧（様式１）'!E12,CODE!$F$59:$G$80,2,FALSE))","v":""},null,null,{"$f":"IF('申込一覧（様式１）'!A12=\"\",\"\",'申込一覧（様式１）'!A12)","v":""},{"$f":"IF('申込一覧（様式１）'!B12=\"\",\"\",'申込一覧（様式１）'!B12)","v":""},{"$f":"IF('申込一覧（様式１）'!C12=\"\",\"\",'申込一覧（様式１）'!C12)","v":""},"",null,null,"",{"$f":"IF('申込一覧（様式１）'!D12=\"\",\"\",'申込一覧（様式１）'!D12)","v":""},null,0,"空知",49,{"$f":"IF('申込一覧（様式１）'!F12=\"\",\"\",VLOOKUP('申込一覧（様式１）'!F12,CODE!$P$3:$R$39,2,FALSE))","v":""},{"$f":"IF('申込一覧（様式１）'!G12=\"\",\"\",'申込一覧（様式１）'!G12)","v":""},"",{"$f":"IF('申込一覧（様式１）'!F12=\"\",\"\",VLOOKUP('申込一覧（様式１）'!F12,CODE!$P$3:$R$39,3,FALSE))","v":""},{"$f":"IF('申込一覧（様式１）'!H12=\"\",\"\",VLOOKUP('申込一覧（様式１）'!H12,CODE!$P$3:$R$39,2,FALSE))","v":""},{"$f":"IF('申込一覧（様式１）'!I12=\"\",\"\",'申込一覧（様式１）'!I12)","v":""},{"$f":"IF('申込一覧（様式１）'!H12=\"\",\"\",0)","v":""},{"$f":"IF('申込一覧（様式１）'!H12=\"\",\"\",VLOOKUP('申込一覧（様式１）'!H12,CODE!$P$3:$R$39,3,FALSE))","v":""},{"$f":"IF('申込一覧（様式１）'!J12=\"\",\"\",VLOOKUP('申込一覧（様式１）'!J12,CODE!$P$3:$R$39,2,FALSE))","v":""},{"$f":"IF('申込一覧（様式１）'!K12=\"\",\"\",'申込一覧（様式１）'!K12)","v":""},{"$f":"IF('申込一覧（様式１）'!J12=\"\",\"\",0)","v":""},{"$f":"IF('申込一覧（様式１）'!J12=\"\",\"\",VLOOKUP('申込一覧（様式１）'!J12,CODE!$P$3:$R$39,3,FALSE))","v":""}]
[6,{"$f":"IF('申込一覧（様式１）'!E13=\"\",\"\",VLOOKUP('申込一覧（様式１）'!E13,CODE!$F$59:$G$80,2,FALSE))","v":""},null,null,{"$f":"IF('申込一覧（様式１）'!A13=\"\",\"\",'申込一覧（様式１）'!A13)","v":""},{"$f":"IF('申込一覧（様式１）'!B13=\"\",\"\",'申込一覧（様式１）'!B13)","v":""},{"$f":"IF('申込一覧（様式１）'!C13=\"\",\"\",'申込一覧（様式１）'!C13)","v":""},"",null,null,"",{"$f":"IF('申込一覧（様式１）'!D13=\"\",\"\",'申込一覧（様式１）'!D13)","v":""},null,0,"空知",49,{"$f":"IF('申込一覧（様式１）'!F13=\"\",\"\",VLOOKUP('申込一覧（様式１）'!F13,CODE!$P$3:$R$39,2,FALSE))","v":""},{"$f":"IF('申込一覧（様式１）'!G13=\"\",\"\",'申込一覧（様式１）'!G13)","v":""},"",{"$f":"IF('申込一覧（様式１）'!F13=\"\",\"\",VLOOKUP('申込一覧（様式１）'!F13,CODE!$P$3:$R$39,3,FALSE))","v":""},{"$f":"IF('申込一覧（様式１）'!H13=\"\",\"\",VLOOKUP('申込一覧（様式１）'!H13,CODE!$P$3:$R$39,2,FALSE))","v":""},{"$f":"IF('申込一覧（様式１）'!I13=\"\",\"\",'申込一覧（様式１）'!I13)","v":""},{"$f":"IF('申込一覧（様式１）'!H13=\"\",\"\",0)","v":""},{"$f":"IF('申込一覧（様式１）'!H13=\"\",\"\",VLOOKUP('申込一覧（様式１）'!H13,CODE!$P$3:$R$39,3,FALSE))","v":""},{"$f":"IF('申込一覧（様式１）'!J13=\"\",\"\",VLOOKUP('申込一覧（様式１）'!J13,CODE!$P$3:$R$39,2,FALSE))","v":""},{"$f":"IF('申込一覧（様式１）'!K13=\"\",\"\",'申込一覧（様式１）'!K13)","v":""},{"$f":"IF('申込一覧（様式１）'!J13=\"\",\"\",0)","v":""},{"$f":"IF('申込一覧（様式１）'!J13=\"\",\"\",VLOOKUP('申込一覧（様式１）'!J13,CODE!$P$3:$R$39,3,FALSE))","v":""}]
[7,{"$f":"IF('申込一覧（様式１）'!E14=\"\",\"\",VLOOKUP('申込一覧（様式１）'!E14,CODE!$F$59:$G$80,2,FALSE))","v":""},null,null,{"$f":"IF('申込一覧（様式１）'!A14=\"\",\"\",'申込一覧（様式１）'!A14)","v":""},{"$f":"IF('申込一覧（様式１）'!B14=\"\",\"\",'申込一覧（様式１）'!B14)","v":""},{"$f":"IF('申込一覧（様式１）'!C14=\"\",\"\",'申込一覧（様式１）'!C14)","v":""},"",null,null,"",{"$f":"IF('申込一覧（様式１）'!D14=\"\",\"\",'申込一覧（様式１）'!D14)","v":""},null,0,"空知",49,{"$f":"IF('申込一覧（様式１）'!F14=\"\",\"\",VLOOKUP('申込一覧（様式１）'!F14,CODE!$P$3:$R$39,2,FALSE))","v":""},{"$f":"IF('申込一覧（様式１）'!G14=\"\",\"\",'申込一覧（様式１）'!G14)","v":""},"",{"$f":"IF('申込一覧（様式１）'!F14=\"\",\"\",VLOOKUP('申込一覧（様式１）'!F14,CODE!$P$3:$R$39,3,FALSE))","v":""},{"$f":"IF('申込一覧（様式１）'!H14=\"\",\"\",VLOOKUP('申込一覧（様式１）'!H14,CODE!$P$3:$R$39,2,FALSE))","v":""},{"$f":"IF('申込一覧（様式１）'!I14=\"\",\"\",'申込一覧（様式１）'!I14)","v":""},{"$f":"IF('申込一覧（様式１）'!H14=\"\",\"\",0)","v":""},{"$f":"IF('申込一覧（様式１）'!H14=\"\",\"\",VLOOKUP('申込一覧（様式１）'!H14,CODE!$P$3:$R$39,3,FALSE))","v":""},{"$f":"IF('申込一覧（様式１）'!J14=\"\",\"\",VLOOKUP('申込一覧（様式１）'!J14,CODE!$P$3:$R$39,2,FALSE))","v":""},{"$f":"IF('申込一覧（様式１）'!K14=\"\",\"\",'申込一覧（様式１）'!K14)","v":""},{"$f":"IF('申込一覧（様式１）'!J14=\"\",\"\",0)","v":""},{"$f":"IF('申込一覧（様式１）'!J14=\"\",\"\",VLOOKUP('申込一覧（様式１）'!J14,CODE!$P$3:$R$39,3,FALSE))","v":""}]
[8,{"$f":"IF('申込一覧（様式１）'!E15=\"\",\"\",VLOOKUP('申込一覧（様式１）'!E15,CODE!$F$59:$G$80,2,FALSE))","v":""},null,null,{"$f":"IF('申込一覧（様式１）'!A15=\"\",\"\",'申込一覧（様式１）'!A15)","v":""},{"$f":"IF('申込一覧（様式１）'!B15=\"\",\"\",'申込一覧（様式１）'!B15)","v":""},{"$f":"IF('申込一覧（様式１）'!C15=\"\",\"\",'申込一覧（様式１）'!C15)","v":""},"",null,null,"",{"$f":"IF('申込一覧（様式１）'!D15=\"\",\"\",'申込一覧（様式１）'!D15)","v":""},null,0,"空知",49,{"$f":"IF('申込一覧（様式１）'!F15=\"\",\"\",VLOOKUP('申込一覧（様式１）'!F15,CODE!$P$3:$R$39,2,FALSE))","v":""},{"$f":"IF('申込一覧（様式１）'!G15=\"\",\"\",'申込一覧（様式１）'!G15)","v":""},"",{"$f":"IF('申込一覧（様式１）'!F15=\"\",\"\",VLOOKUP('申込一覧（様式１）'!F15,CODE!$P$3:$R$39,3,FALSE))","v":""},{"$f":"IF('申込一覧（様式１）'!H15=\"\",\"\",VLOOKUP('申込一覧（様式１）'!H15,CODE!$P$3:$R$39,2,FALSE))","v":""},{"$f":"IF('申込一覧（様式１）'!I15=\"\",\"\",'申込一覧（様式１）'!I15)","v":""},{"$f":"IF('申込一覧（様式１）'!H15=\"\",\"\",0)","v":""},{"$f":"IF('申込一覧（様式１）'!H15=\"\",\"\",VLOOKUP('申込一覧（様式１）'!H15,CODE!$P$3:$R$39,3,FALSE))","v":""},{"$f":"IF('申込一覧（様式１）'!J15=\"\",\"\",VLOOKUP('申込一覧（様式１）'!J15,CODE!$P$3:$R$39,2,FALSE))","v":""},{"$f":"IF('申込一覧（様式１）'!K15=\"\",\"\",'申込一覧（様式１）'!K15)","v":""},{"$f":"IF('申込一覧（様式１）'!J15=\"\",\"\",0)","v":""},{"$f":"IF('申込一覧（様式１）'!J15=\"\",\"\",VLOOKUP('申込一覧（様式１）'!J15,CODE!$P$3:$R$39,3,FALSE))","v":""}]
[9,{"$f":"IF('申込一覧（様式１）'!E16=\"\",\"\",VLOOKUP('申込一覧（様式１）'!E16,CODE!$F$59:$G$80,2,FALSE))","v":""},null,null,{"$f":"IF('申込一覧（様式１）'!A16=\"\",\"\",'申込一覧（様式１）'!A16)","v":""},{"$f":"IF('申込一覧（様式１）'!B16=\"\",\"\",'申込一覧（様式１）'!B16)","v":""},{"$f":"IF('申込一覧（様式１）'!C16=\"\",\"\",'申込一覧（様式１）'!C16)","v":""},"",null,null,"",{"$f":"IF('申込一覧（様式１）'!D16=\"\",\"\",'申込一覧（様式１）'!D16)","v":""},null,0,"空知",49,{"$f":"IF('申込一覧（様式１）'!F16=\"\",\"\",VLOOKUP('申込一覧（様式１）'!F16,CODE!$P$3:$R$39,2,FALSE))","v":""},{"$f":"IF('申込一覧（様式１）'!G16=\"\",\"\",'申込一覧（様式１）'!G16)","v":""},"",{"$f":"IF('申込一覧（様式１）'!F16=\"\",\"\",VLOOKUP('申込一覧（様式１）'!F16,CODE!$P$3:$R$39,3,FALSE))","v":""},{"$f":"IF('申込一覧（様式１）'!H16=\"\",\"\",VLOOKUP('申込一覧（様式１）'!H16,CODE!$P$3:$R$39,2,FALSE))","v":""},{"$f":"IF('申込一覧（様式１）'!I16=\"\",\"\",'申込一覧（様式１）'!I16)","v":""},{"$f":"IF('申込一覧（様式１）'!H16=\"\",\"\",0)","v":""},{"$f":"IF('申込一覧（様式１）'!H16=\"\",\"\",VLOOKUP('申込一覧（様式１）'!H16,CODE!$P$3:$R$39,3,FALSE))","v":""},{"$f":"IF('申込一覧（様式１）'!J16=\"\",\"\",VLOOKUP('申込一覧（様式１）'!J16,CODE!$P$3:$R$39,2,FALSE))","v":""},{"$f":"IF('申込一覧（様式１）'!K16=\"\",\"\",'申込一覧（様式１）'!K16)","v":""},{"$f":"IF('申込一覧（様式１）'!J16=\"\",\"\",0)","v":""},{"$f":"IF('申込一覧（様式１）'!J16=\"\",\"\",VLOOKUP('申込一覧（様式１）'!J16,CODE!$P$3:$R$39,3,FALSE))","v":""}]
[10,{"$f":"IF('申込一覧（様式１）'!E17=\"\",\"\",VLOOKUP('申込一覧（様式１）'!E17,CODE!$F$59:$G$80,2,FALSE))","v":""},null,null,{"$f":"IF('申込一覧（様式１）'!A17=\"\",\"\",'申込一覧（様式１）'!A17)","v":""},{"$f":"IF('申込一覧（様式１）'!B17=\"\",\"\",'申込一覧（様式１）'!B17)","v":""},{"$f":"IF('申込一覧（様式１）'!C17=\"\",\"\",'申込一覧（様式１）'!C17)","v":""},"",null,null,"",{"$f":"IF('申込一覧（様式１）'!D17=\"\",\"\",'申込一覧（様式１）'!D17)","v":""},null,0,"空知",49,{"$f":"IF('申込一覧（様式１）'!F17=\"\",\"\",VLOOKUP('申込一覧（様式１）'!F17,CODE!$P$3:$R$39,2,FALSE))","v":""},{"$f":"IF('申込一覧（様式１）'!G17=\"\",\"\",'申込一覧（様式１）'!G17)","v":""},"",{"$f":"IF('申込一覧（様式１）'!F17=\"\",\"\",VLOOKUP('申込一覧（様式１）'!F17,CODE!$P$3:$R$39,3,FALSE))","v":""},{"$f":"IF('申込一覧（様式１）'!H17=\"\",\"\",VLOOKUP('申込一覧（様式１）'!H17,CODE!$P$3:$R$39,2,FALSE))","v":""},{"$f":"IF('申込一覧（様式１）'!I17=\"\",\"\",'申込一覧（様式１）'!I17)","v":""},{"$f":"IF('申込一覧（様式１）'!H17=\"\",\"\",0)","v":""},{"$f":"IF('申込一覧（様式１）'!H17=\"\",\"\",VLOOKUP('申込一覧（様式１）'!H17,CODE!$P$3:$R$39,3,FALSE))","v":""},{"$f":"IF('申込一覧（様式１）'!J17=\"\",\"\",VLOOKUP('申込一覧（様式１）'!J17,CODE!$P$3:$R$39,2,FALSE))","v":""},{"$f":"IF('申込一覧（様式１）'!K17=\"\",\"\",'申込一覧（様式１）'!K17)","v":""},{"$f":"IF('申込一覧（様式１）'!J17=\"\",\"\",0)","v":""},{"$f":"IF('申込一覧（様式１）'!J17=\"\",\"\",VLOOKUP('申込一覧（様式１）'!J17,CODE!$P$3:$R$39,3,FALSE))","v":""}]
[11,{"$f":"IF('申込一覧（様式１）'!E18=\"\",\"\",VLOOKUP('申込一覧（様式１）'!E18,CODE!$F$59:$G$80,2,FALSE))","v":""},null,null,{"$f":"IF('申込一覧（様式１）'!A18=\"\",\"\",'申込一覧（様式１）'!A18)","v":""},{"$f":"IF('申込一覧（様式１）'!B18=\"\",\"\",'申込一覧（様式１）'!B18)","v":""},{"$f":"IF('申込一覧（様式１）'!C18=\"\",\"\",'申込一覧（様式１）'!C18)","v":""},"",null,null,"",{"$f":"IF('申込一覧（様式１）'!D18=\"\",\"\",'申込一覧（様式１）'!D18)","v":""},null,0,"空知",49,{"$f":"IF('申込一覧（様式１）'!F18=\"\",\"\",VLOOKUP('申込一覧（様式１）'!F18,CODE!$P$3:$R$39,2,FALSE))","v":""},{"$f":"IF('申込一覧（様式１）'!G18=\"\",\"\",'申込一覧（様式１）'!G18)","v":""},"",{"$f":"IF('申込一覧（様式１）'!F18=\"\",\"\",VLOOKUP('申込一覧（様式１）'!F18,CODE!$P$3:$R$39,3,FALSE))","v":""},{"$f":"IF('申込一覧（様式１）'!H18=\"\",\"\",VLOOKUP('申込一覧（様式１）'!H18,CODE!$P$3:$R$39,2,FALSE))","v":""},{"$f":"IF('申込一覧（様式１）'!I18=\"\",\"\",'申込一覧（様式１）'!I18)","v":""},{"$f":"IF('申込一覧（様式１）'!H18=\"\",\"\",0)","v":""},{"$f":"IF('申込一覧（様式１）'!H18=\"\",\"\",VLOOKUP('申込一覧（様式１）'!H18,CODE!$P$3:$R$39,3,FALSE))","v":""},{"$f":"IF('申込一覧（様式１）'!J18=\"\",\"\",VLOOKUP('申込一覧（様式１）'!J18,CODE!$P$3:$R$39,2,FALSE))","v":""},{"$f":"IF('申込一覧（様式１）'!K18=\"\",\"\",'申込一覧（様式１）'!K18)","v":""},{"$f":"IF('申込一覧（様式１）'!J18=\"\",\"\",0)","v":""},{"$f":"IF('申込一覧（様式１）'!J18=\"\",\"\",VLOOKUP('申込一覧（様式１）'!J18,CODE!$P$3:$R$39,3,FALSE))","v":""}]
[12,{"$f":"IF('申込一覧（様式１）'!E19=\"\",\"\",VLOOKUP('申込一覧（様式１）'!E19,CODE!$F$59:$G$80,2,FALSE))","v":""},null,null,{"$f":"IF('申込一覧（様式１）'!A19=\"\",\"\",'申込一覧（様式１）'!A19)","v":""},{"$f":"IF('申込一覧（様式１）'!B19=\"\",\"\",'申込一覧（様式１）'!B19)","v":""},{"$f":"IF('申込一覧（様式１）'!C19=\"\",\"\",'申込一覧（様式１）'!C19)","v":""},"",null,null,"",{"$f":"IF('申込一覧（様式１）'!D19=\"\",\"\",'申込一覧（様式１）'!D19)","v":""},null,0,"空知",49,{"$f":"IF('申込一覧（様式１）'!F19=\"\",\"\",VLOOKUP('申込一覧（様式１）'!F19,CODE!$P$3:$R$39,2,FALSE))","v":""},{"$f":"IF('申込一覧（様式１）'!G19=\"\",\"\",'申込一覧（様式１）'!G19)","v":""},"",{"$f":"IF('申込一覧（様式１）'!F19=\"\",\"\",VLOOKUP('申込一覧（様式１）'!F19,CODE!$P$3:$R$39,3,FALSE))","v":""},{"$f":"IF('申込一覧（様式１）'!H19=\"\",\"\",VLOOKUP('申込一覧（様式１）'!H19,CODE!$P$3:$R$39,2,FALSE))","v":""},{"$f":"IF('申込一覧（様式１）'!I19=\"\",\"\",'申込一覧（様式１）'!I19)","v":""},{"$f":"IF('申込一覧（様式１）'!H19=\"\",\"\",0)","v":""},{"$f":"IF('申込一覧（様式１）'!H19=\"\",\"\",VLOOKUP('申込一覧（様式１）'!H19,CODE!$P$3:$R$39,3,FALSE))","v":""},{"$f":"IF('申込一覧（様式１）'!J19=\"\",\"\",VLOOKUP('申込一覧（様式１）'!J19,CODE!$P$3:$R$39,2,FALSE))","v":""},{"$f":"IF('申込一覧（様式１）'!K19=\"\",\"\",'申込一覧（様式１）'!K19)","v":""},{"$f":"IF('申込一覧（様式１）'!J19=\"\",\"\",0)","v":""},{"$f":"IF('申込一覧（様式１）'!J19=\"\",\"\",VLOOKUP('申込一覧（様式１）'!J19,CODE!$P$3:$R$39,3,FALSE))","v":""}]
[13,{"$f":"IF('申込一覧（様式１）'!E20=\"\",\"\",VLOOKUP('申込一覧（様式１）'!E20,CODE!$F$59:$G$80,2,FALSE))","v":""},null,null,{"$f":"IF('申込一覧（様式１）'!A20=\"\",\"\",'申込一覧（様式１）'!A20)","v":""},{"$f":"IF('申込一覧（様式１）'!B20=\"\",\"\",'申込一覧（様式１）'!B20)","v":""},{"$f":"IF('申込一覧（様式１）'!C20=\"\",\"\",'申込一覧（様式１）'!C20)","v":""},"",null,null,"",{"$f":"IF('申込一覧（様式１）'!D20=\"\",\"\",'申込一覧（様式１）'!D20)","v":""},null,0,"空知",49,{"$f":"IF('申込一覧（様式１）'!F20=\"\",\"\",VLOOKUP('申込一覧（様式１）'!F20,CODE!$P$3:$R$39,2,FALSE))","v":""},{"$f":"IF('申込一覧（様式１）'!G20=\"\",\"\",'申込一覧（様式１）'!G20)","v":""},"",{"$f":"IF('申込一覧（様式１）'!F20=\"\",\"\",VLOOKUP('申込一覧（様式１）'!F20,CODE!$P$3:$R$39,3,FALSE))","v":""},{"$f":"IF('申込一覧（様式１）'!H20=\"\",\"\",VLOOKUP('申込一覧（様式１）'!H20,CODE!$P$3:$R$39,2,FALSE))","v":""},{"$f":"IF('申込一覧（様式１）'!I20=\"\",\"\",'申込一覧（様式１）'!I20)","v":""},{"$f":"IF('申込一覧（様式１）'!H20=\"\",\"\",0)","v":""},{"$f":"IF('申込一覧（様式１）'!H20=\"\",\"\",VLOOKUP('申込一覧（様式１）'!H20,CODE!$P$3:$R$39,3,FALSE))","v":""},{"$f":"IF('申込一覧（様式１）'!J20=\"\",\"\",VLOOKUP('申込一覧（様式１）'!J20,CODE!$P$3:$R$39,2,FALSE))","v":""},{"$f":"IF('申込一覧（様式１）'!K20=\"\",\"\",'申込一覧（様式１）'!K20)","v":""},{"$f":"IF('申込一覧（様式１）'!J20=\"\",\"\",0)","v":""},{"$f":"IF('申込一覧（様式１）'!J20=\"\",\"\",VLOOKUP('申込一覧（様式１）'!J20,CODE!$P$3:$R$39,3,FALSE))","v":""}]
[14,{"$f":"IF('申込一覧（様式１）'!E21=\"\",\"\",VLOOKUP('申込一覧（様式１）'!E21,CODE!$F$59:$G$80,2,FALSE))","v":""},null,null,{"$f":"IF('申込一覧（様式１）'!A21=\"\",\"\",'申込一覧（様式１）'!A21)","v":""},{"$f":"IF('申込一覧（様式１）'!B21=\"\",\"\",'申込一覧（様式１）'!B21)","v":""},{"$f":"IF('申込一覧（様式１）'!C21=\"\",\"\",'申込一覧（様式１）'!C21)","v":""},"",null,null,"",{"$f":"IF('申込一覧（様式１）'!D21=\"\",\"\",'申込一覧（様式１）'!D21)","v":""},null,0,"空知",49,{"$f":"IF('申込一覧（様式１）'!F21=\"\",\"\",VLOOKUP('申込一覧（様式１）'!F21,CODE!$P$3:$R$39,2,FALSE))","v":""},{"$f":"IF('申込一覧（様式１）'!G21=\"\",\"\",'申込一覧（様式１）'!G21)","v":""},"",{"$f":"IF('申込一覧（様式１）'!F21=\"\",\"\",VLOOKUP('申込一覧（様式１）'!F21,CODE!$P$3:$R$39,3,FALSE))","v":""},{"$f":"IF('申込一覧（様式１）'!H21=\"\",\"\",VLOOKUP('申込一覧（様式１）'!H21,CODE!$P$3:$R$39,2,FALSE))","v":""},{"$f":"IF('申込一覧（様式１）'!I21=\"\",\"\",'申込一覧（様式１）'!I21)","v":""},{"$f":"IF('申込一覧（様式１）'!H21=\"\",\"\",0)","v":""},{"$f":"IF('申込一覧（様式１）'!H21=\"\",\"\",VLOOKUP('申込一覧（様式１）'!H21,CODE!$P$3:$R$39,3,FALSE))","v":""},{"$f":"IF('申込一覧（様式１）'!J21=\"\",\"\",VLOOKUP('申込一覧（様式１）'!J21,CODE!$P$3:$R$39,2,FALSE))","v":""},{"$f":"IF('申込一覧（様式１）'!K21=\"\",\"\",'申込一覧（様式１）'!K21)","v":""},{"$f":"IF('申込一覧（様式１）'!J21=\"\",\"\",0)","v":""},{"$f":"IF('申込一覧（様式１）'!J21=\"\",\"\",VLOOKUP('申込一覧（様式１）'!J21,CODE!$P$3:$R$39,3,FALSE))","v":""}]
[15,{"$f":"IF('申込一覧（様式１）'!E22=\"\",\"\",VLOOKUP('申込一覧（様式１）'!E22,CODE!$F$59:$G$80,2,FALSE))","v":""},null,null,{"$f":"IF('申込一覧（様式１）'!A22=\"\",\"\",'申込一覧（様式１）'!A22)","v":""},{"$f":"IF('申込一覧（様式１）'!B22=\"\",\"\",'申込一覧（様式１）'!B22)","v":""},{"$f":"IF('申込一覧（様式１）'!C22=\"\",\"\",'申込一覧（様式１）'!C22)","v":""},"",null,null,"",{"$f":"IF('申込一覧（様式１）'!D22=\"\",\"\",'申込一覧（様式１）'!D22)","v":""},null,0,"空知",49,{"$f":"IF('申込一覧（様式１）'!F22=\"\",\"\",VLOOKUP('申込一覧（様式１）'!F22,CODE!$P$3:$R$39,2,FALSE))","v":""},{"$f":"IF('申込一覧（様式１）'!G22=\"\",\"\",'申込一覧（様式１）'!G22)","v":""},"",{"$f":"IF('申込一覧（様式１）'!F22=\"\",\"\",VLOOKUP('申込一覧（様式１）'!F22,CODE!$P$3:$R$39,3,FALSE))","v":""},{"$f":"IF('申込一覧（様式１）'!H22=\"\",\"\",VLOOKUP('申込一覧（様式１）'!H22,CODE!$P$3:$R$39,2,FALSE))","v":""},{"$f":"IF('申込一覧（様式１）'!I22=\"\",\"\",'申込一覧（様式１）'!I22)","v":""},{"$f":"IF('申込一覧（様式１）'!H22=\"\",\"\",0)","v":""},{"$f":"IF('申込一覧（様式１）'!H22=\"\",\"\",VLOOKUP('申込一覧（様式１）'!H22,CODE!$P$3:$R$39,3,FALSE))","v":""},{"$f":"IF('申込一覧（様式１）'!J22=\"\",\"\",VLOOKUP('申込一覧（様式１）'!J22,CODE!$P$3:$R$39,2,FALSE))","v":""},{"$f":"IF('申込一覧（様式１）'!K22=\"\",\"\",'申込一覧（様式１）'!K22)","v":""},{"$f":"IF('申込一覧（様式１）'!J22=\"\",\"\",0)","v":""},{"$f":"IF('申込一覧（様式１）'!J22=\"\",\"\",VLOOKUP('申込一覧（様式１）'!J22,CODE!$P$3:$R$39,3,FALSE))","v":""}]
[16,{"$f":"IF('申込一覧（様式１）'!E23=\"\",\"\",VLOOKUP('申込一覧（様式１）'!E23,CODE!$F$59:$G$80,2,FALSE))","v":""},null,null,{"$f":"IF('申込一覧（様式１）'!A23=\"\",\"\",'申込一覧（様式１）'!A23)","v":""},{"$f":"IF('申込一覧（様式１）'!B23=\"\",\"\",'申込一覧（様式１）'!B23)","v":""},{"$f":"IF('申込一覧（様式１）'!C23=\"\",\"\",'申込一覧（様式１）'!C23)","v":""},"",null,null,"",{"$f":"IF('申込一覧（様式１）'!D23=\"\",\"\",'申込一覧（様式１）'!D23)","v":""},null,0,"空知",49,{"$f":"IF('申込一覧（様式１）'!F23=\"\",\"\",VLOOKUP('申込一覧（様式１）'!F23,CODE!$P$3:$R$39,2,FALSE))","v":""},{"$f":"IF('申込一覧（様式１）'!G23=\"\",\"\",'申込一覧（様式１）'!G23)","v":""},"",{"$f":"IF('申込一覧（様式１）'!F23=\"\",\"\",VLOOKUP('申込一覧（様式１）'!F23,CODE!$P$3:$R$39,3,FALSE))","v":""},{"$f":"IF('申込一覧（様式１）'!H23=\"\",\"\",VLOOKUP('申込一覧（様式１）'!H23,CODE!$P$3:$R$39,2,FALSE))","v":""},{"$f":"IF('申込一覧（様式１）'!I23=\"\",\"\",'申込一覧（様式１）'!I23)","v":""},{"$f":"IF('申込一覧（様式１）'!H23=\"\",\"\",0)","v":""},{"$f":"IF('申込一覧（様式１）'!H23=\"\",\"\",VLOOKUP('申込一覧（様式１）'!H23,CODE!$P$3:$R$39,3,FALSE))","v":""},{"$f":"IF('申込一覧（様式１）'!J23=\"\",\"\",VLOOKUP('申込一覧（様式１）'!J23,CODE!$P$3:$R$39,2,FALSE))","v":""},{"$f":"IF('申込一覧（様式１）'!K23=\"\",\"\",'申込一覧（様式１）'!K23)","v":""},{"$f":"IF('申込一覧（様式１）'!J23=\"\",\"\",0)","v":""},{"$f":"IF('申込一覧（様式１）'!J23=\"\",\"\",VLOOKUP('申込一覧（様式１）'!J23,CODE!$P$3:$R$39,3,FALSE))","v":""}]
[17,{"$f":"IF('申込一覧（様式１）'!E24=\"\",\"\",VLOOKUP('申込一覧（様式１）'!E24,CODE!$F$59:$G$80,2,FALSE))","v":""},null,null,{"$f":"IF('申込一覧（様式１）'!A24=\"\",\"\",'申込一覧（様式１）'!A24)","v":""},{"$f":"IF('申込一覧（様式１）'!B24=\"\",\"\",'申込一覧（様式１）'!B24)","v":""},{"$f":"IF('申込一覧（様式１）'!C24=\"\",\"\",'申込一覧（様式１）'!C24)","v":""},"",null,null,"",{"$f":"IF('申込一覧（様式１）'!D24=\"\",\"\",'申込一覧（様式１）'!D24)","v":""},null,0,"空知",49,{"$f":"IF('申込一覧（様式１）'!F24=\"\",\"\",VLOOKUP('申込一覧（様式１）'!F24,CODE!$P$3:$R$39,2,FALSE))","v":""},{"$f":"IF('申込一覧（様式１）'!G24=\"\",\"\",'申込一覧（様式１）'!G24)","v":""},"",{"$f":"IF('申込一覧（様式１）'!F24=\"\",\"\",VLOOKUP('申込一覧（様式１）'!F24,CODE!$P$3:$R$39,3,FALSE))","v":""},{"$f":"IF('申込一覧（様式１）'!H24=\"\",\"\",VLOOKUP('申込一覧（様式１）'!H24,CODE!$P$3:$R$39,2,FALSE))","v":""},{"$f":"IF('申込一覧（様式１）'!I24=\"\",\"\",'申込一覧（様式１）'!I24)","v":""},{"$f":"IF('申込一覧（様式１）'!H24=\"\",\"\",0)","v":""},{"$f":"IF('申込一覧（様式１）'!H24=\"\",\"\",VLOOKUP('申込一覧（様式１）'!H24,CODE!$P$3:$R$39,3,FALSE))","v":""},{"$f":"IF('申込一覧（様式１）'!J24=\"\",\"\",VLOOKUP('申込一覧（様式１）'!J24,CODE!$P$3:$R$39,2,FALSE))","v":""},{"$f":"IF('申込一覧（様式１）'!K24=\"\",\"\",'申込一覧（様式１）'!K24)","v":""},{"$f":"IF('申込一覧（様式１）'!J24=\"\",\"\",0)","v":""},{"$f":"IF('申込一覧（様式１）'!J24=\"\",\"\",VLOOKUP('申込一覧（様式１）'!J24,CODE!$P$3:$R$39,3,FALSE))","v":""}]
[18,{"$f":"IF('申込一覧（様式１）'!E25=\"\",\"\",VLOOKUP('申込一覧（様式１）'!E25,CODE!$F$59:$G$80,2,FALSE))","v":""},null,null,{"$f":"IF('申込一覧（様式１）'!A25=\"\",\"\",'申込一覧（様式１）'!A25)","v":""},{"$f":"IF('申込一覧（様式１）'!B25=\"\",\"\",'申込一覧（様式１）'!B25)","v":""},{"$f":"IF('申込一覧（様式１）'!C25=\"\",\"\",'申込一覧（様式１）'!C25)","v":""},"",null,null,"",{"$f":"IF('申込一覧（様式１）'!D25=\"\",\"\",'申込一覧（様式１）'!D25)","v":""},null,0,"空知",49,{"$f":"IF('申込一覧（様式１）'!F25=\"\",\"\",VLOOKUP('申込一覧（様式１）'!F25,CODE!$P$3:$R$39,2,FALSE))","v":""},{"$f":"IF('申込一覧（様式１）'!G25=\"\",\"\",'申込一覧（様式１）'!G25)","v":""},"",{"$f":"IF('申込一覧（様式１）'!F25=\"\",\"\",VLOOKUP('申込一覧（様式１）'!F25,CODE!$P$3:$R$39,3,FALSE))","v":""},{"$f":"IF('申込一覧（様式１）'!H25=\"\",\"\",VLOOKUP('申込一覧（様式１）'!H25,CODE!$P$3:$R$39,2,FALSE))","v":""},{"$f":"IF('申込一覧（様式１）'!I25=\"\",\"\",'申込一覧（様式１）'!I25)","v":""},{"$f":"IF('申込一覧（様式１）'!H25=\"\",\"\",0)","v":""},{"$f":"IF('申込一覧（様式１）'!H25=\"\",\"\",VLOOKUP('申込一覧（様式１）'!H25,CODE!$P$3:$R$39,3,FALSE))","v":""},{"$f":"IF('申込一覧（様式１）'!J25=\"\",\"\",VLOOKUP('申込一覧（様式１）'!J25,CODE!$P$3:$R$39,2,FALSE))","v":""},{"$f":"IF('申込一覧（様式１）'!K25=\"\",\"\",'申込一覧（様式１）'!K25)","v":""},{"$f":"IF('申込一覧（様式１）'!J25=\"\",\"\",0)","v":""},{"$f":"IF('申込一覧（様式１）'!J25=\"\",\"\",VLOOKUP('申込一覧（様式１）'!J25,CODE!$P$3:$R$39,3,FALSE))","v":""}]
[19,{"$f":"IF('申込一覧（様式１）'!E26=\"\",\"\",VLOOKUP('申込一覧（様式１）'!E26,CODE!$F$59:$G$80,2,FALSE))","v":""},null,null,{"$f":"IF('申込一覧（様式１）'!A26=\"\",\"\",'申込一覧（様式１）'!A26)","v":""},{"$f":"IF('申込一覧（様式１）'!B26=\"\",\"\",'申込一覧（様式１）'!B26)","v":""},{"$f":"IF('申込一覧（様式１）'!C26=\"\",\"\",'申込一覧（様式１）'!C26)","v":""},"",null,null,"",{"$f":"IF('申込一覧（様式１）'!D26=\"\",\"\",'申込一覧（様式１）'!D26)","v":""},null,0,"空知",49,{"$f":"IF('申込一覧（様式１）'!F26=\"\",\"\",VLOOKUP('申込一覧（様式１）'!F26,CODE!$P$3:$R$39,2,FALSE))","v":""},{"$f":"IF('申込一覧（様式１）'!G26=\"\",\"\",'申込一覧（様式１）'!G26)","v":""},"",{"$f":"IF('申込一覧（様式１）'!F26=\"\",\"\",VLOOKUP('申込一覧（様式１）'!F26,CODE!$P$3:$R$39,3,FALSE))","v":""},{"$f":"IF('申込一覧（様式１）'!H26=\"\",\"\",VLOOKUP('申込一覧（様式１）'!H26,CODE!$P$3:$R$39,2,FALSE))","v":""},{"$f":"IF('申込一覧（様式１）'!I26=\"\",\"\",'申込一覧（様式１）'!I26)","v":""},{"$f":"IF('申込一覧（様式１）'!H26=\"\",\"\",0)","v":""},{"$f":"IF('申込一覧（様式１）'!H26=\"\",\"\",VLOOKUP('申込一覧（様式１）'!H26,CODE!$P$3:$R$39,3,FALSE))","v":""},{"$f":"IF('申込一覧（様式１）'!J26=\"\",\"\",VLOOKUP('申込一覧（様式１）'!J26,CODE!$P$3:$R$39,2,FALSE))","v":""},{"$f":"IF('申込一覧（様式１）'!K26=\"\",\"\",'申込一覧（様式１）'!K26)","v":""},{"$f":"IF('申込一覧（様式１）'!J26=\"\",\"\",0)","v":""},{"$f":"IF('申込一覧（様式１）'!J26=\"\",\"\",VLOOKUP('申込一覧（様式１）'!J26,CODE!$P$3:$R$39,3,FALSE))","v":""}]
[20,{"$f":"IF('申込一覧（様式１）'!E27=\"\",\"\",VLOOKUP('申込一覧（様式１）'!E27,CODE!$F$59:$G$80,2,FALSE))","v":""},null,null,{"$f":"IF('申込一覧（様式１）'!A27=\"\",\"\",'申込一覧（様式１）'!A27)","v":""},{"$f":"IF('申込一覧（様式１）'!B27=\"\",\"\",'申込一覧（様式１）'!B27)","v":""},{"$f":"IF('申込一覧（様式１）'!C27=\"\",\"\",'申込一覧（様式１）'!C27)","v":""},"",null,null,"",{"$f":"IF('申込一覧（様式１）'!D27=\"\",\"\",'申込一覧（様式１）'!D27)","v":""},null,0,"空知",49,{"$f":"IF('申込一覧（様式１）'!F27=\"\",\"\",VLOOKUP('申込一覧（様式１）'!F27,CODE!$P$3:$R$39,2,FALSE))","v":""},{"$f":"IF('申込一覧（様式１）'!G27=\"\",\"\",'申込一覧（様式１）'!G27)","v":""},"",{"$f":"IF('申込一覧（様式１）'!F27=\"\",\"\",VLOOKUP('申込一覧（様式１）'!F27,CODE!$P$3:$R$39,3,FALSE))","v":""},{"$f":"IF('申込一覧（様式１）'!H27=\"\",\"\",VLOOKUP('申込一覧（様式１）'!H27,CODE!$P$3:$R$39,2,FALSE))","v":""},{"$f":"IF('申込一覧（様式１）'!I27=\"\",\"\",'申込一覧（様式１）'!I27)","v":""},{"$f":"IF('申込一覧（様式１）'!H27=\"\",\"\",0)","v":""},{"$f":"IF('申込一覧（様式１）'!H27=\"\",\"\",VLOOKUP('申込一覧（様式１）'!H27,CODE!$P$3:$R$39,3,FALSE))","v":""},{"$f":"IF('申込一覧（様式１）'!J27=\"\",\"\",VLOOKUP('申込一覧（様式１）'!J27,CODE!$P$3:$R$39,2,FALSE))","v":""},{"$f":"IF('申込一覧（様式１）'!K27=\"\",\"\",'申込一覧（様式１）'!K27)","v":""},{"$f":"IF('申込一覧（様式１）'!J27=\"\",\"\",0)","v":""},{"$f":"IF('申込一覧（様式１）'!J27=\"\",\"\",VLOOKUP('申込一覧（様式１）'!J27,CODE!$P$3:$R$39,3,FALSE))","v":""}]
[21,{"$f":"IF('申込一覧（様式１）'!E28=\"\",\"\",VLOOKUP('申込一覧（様式１）'!E28,CODE!$F$59:$G$80,2,FALSE))","v":""},null,null,{"$f":"IF('申込一覧（様式１）'!A28=\"\",\"\",'申込一覧（様式１）'!A28)","v":""},{"$f":"IF('申込一覧（様式１）'!B28=\"\",\"\",'申込一覧（様式１）'!B28)","v":""},{"$f":"IF('申込一覧（様式１）'!C28=\"\",\"\",'申込一覧（様式１）'!C28)","v":""},"",null,null,"",{"$f":"IF('申込一覧（様式１）'!D28=\"\",\"\",'申込一覧（様式１）'!D28)","v":""},null,0,"空知",49,{"$f":"IF('申込一覧（様式１）'!F28=\"\",\"\",VLOOKUP('申込一覧（様式１）'!F28,CODE!$P$3:$R$39,2,FALSE))","v":""},{"$f":"IF('申込一覧（様式１）'!G28=\"\",\"\",'申込一覧（様式１）'!G28)","v":""},"",{"$f":"IF('申込一覧（様式１）'!F28=\"\",\"\",VLOOKUP('申込一覧（様式１）'!F28,CODE!$P$3:$R$39,3,FALSE))","v":""},{"$f":"IF('申込一覧（様式１）'!H28=\"\",\"\",VLOOKUP('申込一覧（様式１）'!H28,CODE!$P$3:$R$39,2,FALSE))","v":""},{"$f":"IF('申込一覧（様式１）'!I28=\"\",\"\",'申込一覧（様式１）'!I28)","v":""},{"$f":"IF('申込一覧（様式１）'!H28=\"\",\"\",0)","v":""},{"$f":"IF('申込一覧（様式１）'!H28=\"\",\"\",VLOOKUP('申込一覧（様式１）'!H28,CODE!$P$3:$R$39,3,FALSE))","v":""},{"$f":"IF('申込一覧（様式１）'!J28=\"\",\"\",VLOOKUP('申込一覧（様式１）'!J28,CODE!$P$3:$R$39,2,FALSE))","v":""},{"$f":"IF('申込一覧（様式１）'!K28=\"\",\"\",'申込一覧（様式１）'!K28)","v":""},{"$f":"IF('申込一覧（様式１）'!J28=\"\",\"\",0)","v":""},{"$f":"IF('申込一覧（様式１）'!J28=\"\",\"\",VLOOKUP('申込一覧（様式１）'!J28,CODE!$P$3:$R$39,3,FALSE))","v":""}]
[22,{"$f":"IF('申込一覧（様式１）'!E29=\"\",\"\",VLOOKUP('申込一覧（様式１）'!E29,CODE!$F$59:$G$80,2,FALSE))","v":""},null,null,{"$f":"IF('申込一覧（様式１）'!A29=\"\",\"\",'申込一覧（様式１）'!A29)","v":""},{"$f":"IF('申込一覧（様式１）'!B29=\"\",\"\",'申込一覧（様式１）'!B29)","v":""},{"$f":"IF('申込一覧（様式１）'!C29=\"\",\"\",'申込一覧（様式１）'!C29)","v":""},"",null,null,"",{"$f":"IF('申込一覧（様式１）'!D29=\"\",\"\",'申込一覧（様式１）'!D29)","v":""},null,0,"空知",49,{"$f":"IF('申込一覧（様式１）'!F29=\"\",\"\",VLOOKUP('申込一覧（様式１）'!F29,CODE!$P$3:$R$39,2,FALSE))","v":""},{"$f":"IF('申込一覧（様式１）'!G29=\"\",\"\",'申込一覧（様式１）'!G29)","v":""},"",{"$f":"IF('申込一覧（様式１）'!F29=\"\",\"\",VLOOKUP('申込一覧（様式１）'!F29,CODE!$P$3:$R$39,3,FALSE))","v":""},{"$f":"IF('申込一覧（様式１）'!H29=\"\",\"\",VLOOKUP('申込一覧（様式１）'!H29,CODE!$P$3:$R$39,2,FALSE))","v":""},{"$f":"IF('申込一覧（様式１）'!I29=\"\",\"\",'申込一覧（様式１）'!I29)","v":""},{"$f":"IF('申込一覧（様式１）'!H29=\"\",\"\",0)","v":""},{"$f":"IF('申込一覧（様式１）'!H29=\"\",\"\",VLOOKUP('申込一覧（様式１）'!H29,CODE!$P$3:$R$39,3,FALSE))","v":""},{"$f":"IF('申込一覧（様式１）'!J29=\"\",\"\",VLOOKUP('申込一覧（様式１）'!J29,CODE!$P$3:$R$39,2,FALSE))","v":""},{"$f":"IF('申込一覧（様式１）'!K29=\"\",\"\",'申込一覧（様式１）'!K29)","v":""},{"$f":"IF('申込一覧（様式１）'!J29=\"\",\"\",0)","v":""},{"$f":"IF('申込一覧（様式１）'!J29=\"\",\"\",VLOOKUP('申込一覧（様式１）'!J29,CODE!$P$3:$R$39,3,FALSE))","v":""}]
[23,{"$f":"IF('申込一覧（様式１）'!E30=\"\",\"\",VLOOKUP('申込一覧（様式１）'!E30,CODE!$F$59:$G$80,2,FALSE))","v":""},null,null,{"$f":"IF('申込一覧（様式１）'!A30=\"\",\"\",'申込一覧（様式１）'!A30)","v":""},{"$f":"IF('申込一覧（様式１）'!B30=\"\",\"\",'申込一覧（様式１）'!B30)","v":""},{"$f":"IF('申込一覧（様式１）'!C30=\"\",\"\",'申込一覧（様式１）'!C30)","v":""},"",null,null,"",{"$f":"IF('申込一覧（様式１）'!D30=\"\",\"\",'申込一覧（様式１）'!D30)","v":""},null,0,"空知",49,{"$f":"IF('申込一覧（様式１）'!F30=\"\",\"\",VLOOKUP('申込一覧（様式１）'!F30,CODE!$P$3:$R$39,2,FALSE))","v":""},{"$f":"IF('申込一覧（様式１）'!G30=\"\",\"\",'申込一覧（様式１）'!G30)","v":""},"",{"$f":"IF('申込一覧（様式１）'!F30=\"\",\"\",VLOOKUP('申込一覧（様式１）'!F30,CODE!$P$3:$R$39,3,FALSE))","v":""},{"$f":"IF('申込一覧（様式１）'!H30=\"\",\"\",VLOOKUP('申込一覧（様式１）'!H30,CODE!$P$3:$R$39,2,FALSE))","v":""},{"$f":"IF('申込一覧（様式１）'!I30=\"\",\"\",'申込一覧（様式１）'!I30)","v":""},{"$f":"IF('申込一覧（様式１）'!H30=\"\",\"\",0)","v":""},{"$f":"IF('申込一覧（様式１）'!H30=\"\",\"\",VLOOKUP('申込一覧（様式１）'!H30,CODE!$P$3:$R$39,3,FALSE))","v":""},{"$f":"IF('申込一覧（様式１）'!J30=\"\",\"\",VLOOKUP('申込一覧（様式１）'!J30,CODE!$P$3:$R$39,2,FALSE))","v":""},{"$f":"IF('申込一覧（様式１）'!K30=\"\",\"\",'申込一覧（様式１）'!K30)","v":""},{"$f":"IF('申込一覧（様式１）'!J30=\"\",\"\",0)","v":""},{"$f":"IF('申込一覧（様式１）'!J30=\"\",\"\",VLOOKUP('申込一覧（様式１）'!J30,CODE!$P$3:$R$39,3,FALSE))","v":""}]
[24,{"$f":"IF('申込一覧（様式１）'!E31=\"\",\"\",VLOOKUP('申込一覧（様式１）'!E31,CODE!$F$59:$G$80,2,FALSE))","v":""},null,null,{"$f":"IF('申込一覧（様式１）'!A31=\"\",\"\",'申込一覧（様式１）'!A31)","v":""},{"$f":"IF('申込一覧（様式１）'!B31=\"\",\"\",'申込一覧（様式１）'!B31)","v":""},{"$f":"IF('申込一覧（様式１）'!C31=\"\",\"\",'申込一覧（様式１）'!C31)","v":""},"",null,null,"",{"$f":"IF('申込一覧（様式１）'!D31=\"\",\"\",'申込一覧（様式１）'!D31)","v":""},null,0,"空知",49,{"$f":"IF('申込一覧（様式１）'!F31=\"\",\"\",VLOOKUP('申込一覧（様式１）'!F31,CODE!$P$3:$R$39,2,FALSE))","v":""},{"$f":"IF('申込一覧（様式１）'!G31=\"\",\"\",'申込一覧（様式１）'!G31)","v":""},"",{"$f":"IF('申込一覧（様式１）'!F31=\"\",\"\",VLOOKUP('申込一覧（様式１）'!F31,CODE!$P$3:$R$39,3,FALSE))","v":""},{"$f":"IF('申込一覧（様式１）'!H31=\"\",\"\",VLOOKUP('申込一覧（様式１）'!H31,CODE!$P$3:$R$39,2,FALSE))","v":""},{"$f":"IF('申込一覧（様式１）'!I31=\"\",\"\",'申込一覧（様式１）'!I31)","v":""},{"$f":"IF('申込一覧（様式１）'!H31=\"\",\"\",0)","v":""},{"$f":"IF('申込一覧（様式１）'!H31=\"\",\"\",VLOOKUP('申込一覧（様式１）'!H31,CODE!$P$3:$R$39,3,FALSE))","v":""},{"$f":"IF('申込一覧（様式１）'!J31=\"\",\"\",VLOOKUP('申込一覧（様式１）'!J31,CODE!$P$3:$R$39,2,FALSE))","v":""},{"$f":"IF('申込一覧（様式１）'!K31=\"\",\"\",'申込一覧（様式１）'!K31)","v":""},{"$f":"IF('申込一覧（様式１）'!J31=\"\",\"\",0)","v":""},{"$f":"IF('申込一覧（様式１）'!J31=\"\",\"\",VLOOKUP('申込一覧（様式１）'!J31,CODE!$P$3:$R$39,3,FALSE))","v":""}]
[25,{"$f":"IF('申込一覧（様式１）'!E32=\"\",\"\",VLOOKUP('申込一覧（様式１）'!E32,CODE!$F$59:$G$80,2,FALSE))","v":""},null,null,{"$f":"IF('申込一覧（様式１）'!A32=\"\",\"\",'申込一覧（様式１）'!A32)","v":""},{"$f":"IF('申込一覧（様式１）'!B32=\"\",\"\",'申込一覧（様式１）'!B32)","v":""},{"$f":"IF('申込一覧（様式１）'!C32=\"\",\"\",'申込一覧（様式１）'!C32)","v":""},"",null,null,"",{"$f":"IF('申込一覧（様式１）'!D32=\"\",\"\",'申込一覧（様式１）'!D32)","v":""},null,0,"空知",49,{"$f":"IF('申込一覧（様式１）'!F32=\"\",\"\",VLOOKUP('申込一覧（様式１）'!F32,CODE!$P$3:$R$39,2,FALSE))","v":""},{"$f":"IF('申込一覧（様式１）'!G32=\"\",\"\",'申込一覧（様式１）'!G32)","v":""},"",{"$f":"IF('申込一覧（様式１）'!F32=\"\",\"\",VLOOKUP('申込一覧（様式１）'!F32,CODE!$P$3:$R$39,3,FALSE))","v":""},{"$f":"IF('申込一覧（様式１）'!H32=\"\",\"\",VLOOKUP('申込一覧（様式１）'!H32,CODE!$P$3:$R$39,2,FALSE))","v":""},{"$f":"IF('申込一覧（様式１）'!I32=\"\",\"\",'申込一覧（様式１）'!I32)","v":""},{"$f":"IF('申込一覧（様式１）'!H32=\"\",\"\",0)","v":""},{"$f":"IF('申込一覧（様式１）'!H32=\"\",\"\",VLOOKUP('申込一覧（様式１）'!H32,CODE!$P$3:$R$39,3,FALSE))","v":""},{"$f":"IF('申込一覧（様式１）'!J32=\"\",\"\",VLOOKUP('申込一覧（様式１）'!J32,CODE!$P$3:$R$39,2,FALSE))","v":""},{"$f":"IF('申込一覧（様式１）'!K32=\"\",\"\",'申込一覧（様式１）'!K32)","v":""},{"$f":"IF('申込一覧（様式１）'!J32=\"\",\"\",0)","v":""},{"$f":"IF('申込一覧（様式１）'!J32=\"\",\"\",VLOOKUP('申込一覧（様式１）'!J32,CODE!$P$3:$R$39,3,FALSE))","v":""}]
[26,{"$f":"IF('申込一覧（様式１）'!E33=\"\",\"\",VLOOKUP('申込一覧（様式１）'!E33,CODE!$F$59:$G$80,2,FALSE))","v":""},null,null,{"$f":"IF('申込一覧（様式１）'!A33=\"\",\"\",'申込一覧（様式１）'!A33)","v":""},{"$f":"IF('申込一覧（様式１）'!B33=\"\",\"\",'申込一覧（様式１）'!B33)","v":""},{"$f":"IF('申込一覧（様式１）'!C33=\"\",\"\",'申込一覧（様式１）'!C33)","v":""},"",null,null,"",{"$f":"IF('申込一覧（様式１）'!D33=\"\",\"\",'申込一覧（様式１）'!D33)","v":""},null,0,"空知",49,{"$f":"IF('申込一覧（様式１）'!F33=\"\",\"\",VLOOKUP('申込一覧（様式１）'!F33,CODE!$P$3:$R$39,2,FALSE))","v":""},{"$f":"IF('申込一覧（様式１）'!G33=\"\",\"\",'申込一覧（様式１）'!G33)","v":""},"",{"$f":"IF('申込一覧（様式１）'!F33=\"\",\"\",VLOOKUP('申込一覧（様式１）'!F33,CODE!$P$3:$R$39,3,FALSE))","v":""},{"$f":"IF('申込一覧（様式１）'!H33=\"\",\"\",VLOOKUP('申込一覧（様式１）'!H33,CODE!$P$3:$R$39,2,FALSE))","v":""},{"$f":"IF('申込一覧（様式１）'!I33=\"\",\"\",'申込一覧（様式１）'!I33)","v":""},{"$f":"IF('申込一覧（様式１）'!H33=\"\",\"\",0)","v":""},{"$f":"IF('申込一覧（様式１）'!H33=\"\",\"\",VLOOKUP('申込一覧（様式１）'!H33,CODE!$P$3:$R$39,3,FALSE))","v":""},{"$f":"IF('申込一覧（様式１）'!J33=\"\",\"\",VLOOKUP('申込一覧（様式１）'!J33,CODE!$P$3:$R$39,2,FALSE))","v":""},{"$f":"IF('申込一覧（様式１）'!K33=\"\",\"\",'申込一覧（様式１）'!K33)","v":""},{"$f":"IF('申込一覧（様式１）'!J33=\"\",\"\",0)","v":""},{"$f":"IF('申込一覧（様式１）'!J33=\"\",\"\",VLOOKUP('申込一覧（様式１）'!J33,CODE!$P$3:$R$39,3,FALSE))","v":""}]
[27,{"$f":"IF('申込一覧（様式１）'!E34=\"\",\"\",VLOOKUP('申込一覧（様式１）'!E34,CODE!$F$59:$G$80,2,FALSE))","v":""},null,null,{"$f":"IF('申込一覧（様式１）'!A34=\"\",\"\",'申込一覧（様式１）'!A34)","v":""},{"$f":"IF('申込一覧（様式１）'!B34=\"\",\"\",'申込一覧（様式１）'!B34)","v":""},{"$f":"IF('申込一覧（様式１）'!C34=\"\",\"\",'申込一覧（様式１）'!C34)","v":""},"",null,null,"",{"$f":"IF('申込一覧（様式１）'!D34=\"\",\"\",'申込一覧（様式１）'!D34)","v":""},null,0,"空知",49,{"$f":"IF('申込一覧（様式１）'!F34=\"\",\"\",VLOOKUP('申込一覧（様式１）'!F34,CODE!$P$3:$R$39,2,FALSE))","v":""},{"$f":"IF('申込一覧（様式１）'!G34=\"\",\"\",'申込一覧（様式１）'!G34)","v":""},"",{"$f":"IF('申込一覧（様式１）'!F34=\"\",\"\",VLOOKUP('申込一覧（様式１）'!F34,CODE!$P$3:$R$39,3,FALSE))","v":""},{"$f":"IF('申込一覧（様式１）'!H34=\"\",\"\",VLOOKUP('申込一覧（様式１）'!H34,CODE!$P$3:$R$39,2,FALSE))","v":""},{"$f":"IF('申込一覧（様式１）'!I34=\"\",\"\",'申込一覧（様式１）'!I34)","v":""},{"$f":"IF('申込一覧（様式１）'!H34=\"\",\"\",0)","v":""},{"$f":"IF('申込一覧（様式１）'!H34=\"\",\"\",VLOOKUP('申込一覧（様式１）'!H34,CODE!$P$3:$R$39,3,FALSE))","v":""},{"$f":"IF('申込一覧（様式１）'!J34=\"\",\"\",VLOOKUP('申込一覧（様式１）'!J34,CODE!$P$3:$R$39,2,FALSE))","v":""},{"$f":"IF('申込一覧（様式１）'!K34=\"\",\"\",'申込一覧（様式１）'!K34)","v":""},{"$f":"IF('申込一覧（様式１）'!J34=\"\",\"\",0)","v":""},{"$f":"IF('申込一覧（様式１）'!J34=\"\",\"\",VLOOKUP('申込一覧（様式１）'!J34,CODE!$P$3:$R$39,3,FALSE))","v":""}]
[28,{"$f":"IF('申込一覧（様式１）'!E35=\"\",\"\",VLOOKUP('申込一覧（様式１）'!E35,CODE!$F$59:$G$80,2,FALSE))","v":""},null,null,{"$f":"IF('申込一覧（様式１）'!A35=\"\",\"\",'申込一覧（様式１）'!A35)","v":""},{"$f":"IF('申込一覧（様式１）'!B35=\"\",\"\",'申込一覧（様式１）'!B35)","v":""},{"$f":"IF('申込一覧（様式１）'!C35=\"\",\"\",'申込一覧（様式１）'!C35)","v":""},"",null,null,"",{"$f":"IF('申込一覧（様式１）'!D35=\"\",\"\",'申込一覧（様式１）'!D35)","v":""},null,0,"空知",49,{"$f":"IF('申込一覧（様式１）'!F35=\"\",\"\",VLOOKUP('申込一覧（様式１）'!F35,CODE!$P$3:$R$39,2,FALSE))","v":""},{"$f":"IF('申込一覧（様式１）'!G35=\"\",\"\",'申込一覧（様式１）'!G35)","v":""},"",{"$f":"IF('申込一覧（様式１）'!F35=\"\",\"\",VLOOKUP('申込一覧（様式１）'!F35,CODE!$P$3:$R$39,3,FALSE))","v":""},{"$f":"IF('申込一覧（様式１）'!H35=\"\",\"\",VLOOKUP('申込一覧（様式１）'!H35,CODE!$P$3:$R$39,2,FALSE))","v":""},{"$f":"IF('申込一覧（様式１）'!I35=\"\",\"\",'申込一覧（様式１）'!I35)","v":""},{"$f":"IF('申込一覧（様式１）'!H35=\"\",\"\",0)","v":""},{"$f":"IF('申込一覧（様式１）'!H35=\"\",\"\",VLOOKUP('申込一覧（様式１）'!H35,CODE!$P$3:$R$39,3,FALSE))","v":""},{"$f":"IF('申込一覧（様式１）'!J35=\"\",\"\",VLOOKUP('申込一覧（様式１）'!J35,CODE!$P$3:$R$39,2,FALSE))","v":""},{"$f":"IF('申込一覧（様式１）'!K35=\"\",\"\",'申込一覧（様式１）'!K35)","v":""},{"$f":"IF('申込一覧（様式１）'!J35=\"\",\"\",0)","v":""},{"$f":"IF('申込一覧（様式１）'!J35=\"\",\"\",VLOOKUP('申込一覧（様式１）'!J35,CODE!$P$3:$R$39,3,FALSE))","v":""}]
[29,{"$f":"IF('申込一覧（様式１）'!E36=\"\",\"\",VLOOKUP('申込一覧（様式１）'!E36,CODE!$F$59:$G$80,2,FALSE))","v":""},null,null,{"$f":"IF('申込一覧（様式１）'!A36=\"\",\"\",'申込一覧（様式１）'!A36)","v":""},{"$f":"IF('申込一覧（様式１）'!B36=\"\",\"\",'申込一覧（様式１）'!B36)","v":""},{"$f":"IF('申込一覧（様式１）'!C36=\"\",\"\",'申込一覧（様式１）'!C36)","v":""},"",null,null,"",{"$f":"IF('申込一覧（様式１）'!D36=\"\",\"\",'申込一覧（様式１）'!D36)","v":""},null,0,"空知",49,{"$f":"IF('申込一覧（様式１）'!F36=\"\",\"\",VLOOKUP('申込一覧（様式１）'!F36,CODE!$P$3:$R$39,2,FALSE))","v":""},{"$f":"IF('申込一覧（様式１）'!G36=\"\",\"\",'申込一覧（様式１）'!G36)","v":""},"",{"$f":"IF('申込一覧（様式１）'!F36=\"\",\"\",VLOOKUP('申込一覧（様式１）'!F36,CODE!$P$3:$R$39,3,FALSE))","v":""},{"$f":"IF('申込一覧（様式１）'!H36=\"\",\"\",VLOOKUP('申込一覧（様式１）'!H36,CODE!$P$3:$R$39,2,FALSE))","v":""},{"$f":"IF('申込一覧（様式１）'!I36=\"\",\"\",'申込一覧（様式１）'!I36)","v":""},{"$f":"IF('申込一覧（様式１）'!H36=\"\",\"\",0)","v":""},{"$f":"IF('申込一覧（様式１）'!H36=\"\",\"\",VLOOKUP('申込一覧（様式１）'!H36,CODE!$P$3:$R$39,3,FALSE))","v":""},{"$f":"IF('申込一覧（様式１）'!J36=\"\",\"\",VLOOKUP('申込一覧（様式１）'!J36,CODE!$P$3:$R$39,2,FALSE))","v":""},{"$f":"IF('申込一覧（様式１）'!K36=\"\",\"\",'申込一覧（様式１）'!K36)","v":""},{"$f":"IF('申込一覧（様式１）'!J36=\"\",\"\",0)","v":""},{"$f":"IF('申込一覧（様式１）'!J36=\"\",\"\",VLOOKUP('申込一覧（様式１）'!J36,CODE!$P$3:$R$39,3,FALSE))","v":""}]
[30,{"$f":"IF('申込一覧（様式１）'!E37=\"\",\"\",VLOOKUP('申込一覧（様式１）'!E37,CODE!$F$59:$G$80,2,FALSE))","v":""},null,null,{"$f":"IF('申込一覧（様式１）'!A37=\"\",\"\",'申込一覧（様式１）'!A37)","v":""},{"$f":"IF('申込一覧（様式１）'!B37=\"\",\"\",'申込一覧（様式１）'!B37)","v":""},{"$f":"IF('申込一覧（様式１）'!C37=\"\",\"\",'申込一覧（様式１）'!C37)","v":""},"",null,null,"",{"$f":"IF('申込一覧（様式１）'!D37=\"\",\"\",'申込一覧（様式１）'!D37)","v":""},null,0,"空知",49,{"$f":"IF('申込一覧（様式１）'!F37=\"\",\"\",VLOOKUP('申込一覧（様式１）'!F37,CODE!$P$3:$R$39,2,FALSE))","v":""},{"$f":"IF('申込一覧（様式１）'!G37=\"\",\"\",'申込一覧（様式１）'!G37)","v":""},"",{"$f":"IF('申込一覧（様式１）'!F37=\"\",\"\",VLOOKUP('申込一覧（様式１）'!F37,CODE!$P$3:$R$39,3,FALSE))","v":""},{"$f":"IF('申込一覧（様式１）'!H37=\"\",\"\",VLOOKUP('申込一覧（様式１）'!H37,CODE!$P$3:$R$39,2,FALSE))","v":""},{"$f":"IF('申込一覧（様式１）'!I37=\"\",\"\",'申込一覧（様式１）'!I37)","v":""},{"$f":"IF('申込一覧（様式１）'!H37=\"\",\"\",0)","v":""},{"$f":"IF('申込一覧（様式１）'!H37=\"\",\"\",VLOOKUP('申込一覧（様式１）'!H37,CODE!$P$3:$R$39,3,FALSE))","v":""},{"$f":"IF('申込一覧（様式１）'!J37=\"\",\"\",VLOOKUP('申込一覧（様式１）'!J37,CODE!$P$3:$R$39,2,FALSE))","v":""},{"$f":"IF('申込一覧（様式１）'!K37=\"\",\"\",'申込一覧（様式１）'!K37)","v":""},{"$f":"IF('申込一覧（様式１）'!J37=\"\",\"\",0)","v":""},{"$f":"IF('申込一覧（様式１）'!J37=\"\",\"\",VLOOKUP('申込一覧（様式１）'!J37,CODE!$P$3:$R$39,3,FALSE))","v":""}]

{"sheet":"CODE","index":4,"n_rows":85,"n_cols":21,"rows_kept":85,"hidden":true}
[]
["所属地コード","所属地名","出力順",null,"コード",null,"コード",null,"コード","競技名　男子",null,"コード",null,"コード","競技名　女子",null,"コード",null,null,"競技コード","競技名"]
[49,"空知",1,null,81,"アカシヤ幼稚園",81,null,1,"M 100m","１００ｍ",1,0,36,"W 100m","１００ｍ",36,0,null,1,"中･高･一般男子100m"]
[50,"道南",2,null,82,"駒沢幼稚園",82,null,2,"M 200m","２００ｍ",2,0,37,"W 200m","２００ｍ",37,0,null,2,"中･高･一般男子200m"]
[51,"小樽後志",3,null,83,"天使幼稚園",83,null,3,"M 400m","４００ｍ",3,0,38,"W 800m","８００ｍ",38,0,null,3,"中･高･一般男子400m"]
[52,"室蘭地方",4,null,84,"めぐみ幼稚園",84,null,4,"M 800m","８００ｍ",4,0,39,"W 1500m","１５００ｍ",39,0,null,4,"中･高･一般男子800m"]
[53,"苫小牧",5,null,1,"岩見沢陸上クラブ",1,null,5,"M 1500m","１５００ｍ",5,0,41,"W 走高跳","走高跳",41,2,null,5,"中･高･一般男子1500m"]
[54,"札幌",6,null,2,"美唄ＪＡＣ",2,null,7,"M 走高跳","走高跳",7,2,42,"W 棒高跳","棒高跳",42,2,null,6,"中･高･一般男子4X100mR"]
[55,"道央",7,null,3,"滝川陸上クラブ",3,null,8,"M 棒高跳","棒高跳",8,2,43,"W 走幅跳","走幅跳",43,2,null,7,"中･高･一般男子走高跳"]
[56,"道北",8,null,4,"赤平陸上クラブ",4,null,9,"M 走幅跳","走幅跳",9,2,44,"W 三段跳","三段跳",44,2,null,8,"中･高･一般男子棒高跳"]
[57,"十勝",9,null,5,"深川陸上クラブ",5,null,10,"M 5000m","５０００ｍ",10,0,45,"W 円盤投","円盤投",45,2,null,9,"中･高･一般男子走幅跳"]
[58,"釧路地方",10,null,6,"南幌SAC",6,null,11,"一M 110mH","１１０ｍH",11,0,46,"W 400m","４００ｍ",46,0,null,10,"高校･一般男子5000m"]
[59,"オホーツク",11,null,7,"YRC",7,null,12,"M 400mH","４００ｍH",12,0,47,"W 3000m","３０００ｍ",47,0,null,11,"高校･一般男子110mH(1.067m)"]
[60,"日本　",12,null,11,"夕張ゆうばり小",11,null,13,"M 三段跳","三段跳",13,2,48,"一W 100mH","１００ｍH",48,0,null,12,"高校･一般男子400mH(0.914m)"]
[1,"北海道",13,null,12,"岩見沢北村小",12,null,14,"M やり投","やり投",14,2,49,"W 400mH","４００ｍH",49,0,null,13,"高校･一般男子三段跳"]
[2,"青森県",14,null,13,"美唄東小",13,null,15,"一M 砲丸投",null,15,null,50,"一W 砲丸投","砲丸投",50,2,null,14,"高校･一般男子やり投(800g)"]
[3,"岩手県",15,null,14,"岩見沢美園小",14,null,16,"一M 円盤投",null,16,null,51,"W ﾊﾝﾏｰ投","ハンマー投",51,2,null,15,"一般男子砲丸投(7.260kg)"]
[4,"宮城県",16,null,15,"秩父別小",15,null,17,"一M ﾊﾝﾏｰ投",null,17,null,52,"W やり投","やり投",52,2,null,16,"一般男子円盤投(2.000kg)"]
[5,"秋田県",17,null,101,"岩見沢光陵中",101,null,18,"高M 砲丸投","砲丸投",18,2,53,"中W 100mH",null,53,null,null,17,"一般男子ハンマー投(7.260kg)"]
[6,"山形県",18,null,102,"岩見沢東光中",102,null,19,"高M 円盤投","円盤投",19,2,54,"中W 砲丸投",null,54,null,null,18,"高校男子砲丸投(6.000kg)"]
[7,"福島県",19,null,103,"岩見沢緑中",103,null,20,"高M ﾊﾝﾏｰ投","ハンマー投",20,2,55,"W ｼﾞｬﾍﾞﾘｯｸｽﾛｰ",null,55,null,null,19,"高校男子円盤投(1.750kg)"]
[8,"茨城県",20,null,104,"岩見沢上幌向中",104,null,21,"中M 3000m",null,21,null,56,"小W 100m",null,56,null,null,20,"高校男子ハンマー投(6.000kg)"]
[9,"栃木県",21,null,105,"岩見沢明成中",105,null,22,"中1M 100mH",null,22,null,57,"小W 800m",null,57,null,null,21,"中学男子3000m"]
[10,"群馬県",22,null,106,"岩見沢豊中",106,null,23,"中M 110mH",null,23,null,58,"小W 80mH",null,58,null,null,22,"中学1年男子100mH(0.838m)"]
[11,"埼玉県",23,null,107,"岩見沢清園中",107,null,24,"中M 砲丸投",null,24,null,60,"小W 走高跳",null,60,null,null,23,"中学男子110mH(0.914m)"]
[12,"千葉県",24,null,108,"岩見沢北村中",108,null,25,"中M 円盤投",null,25,null,61,"小W 走幅跳",null,61,null,null,24,"中学男子砲丸投(5.000kg)"]
[13,"東京都",25,null,109,"岩見沢栗沢中",109,null,26,"中M ｼﾞｬﾍﾞﾘｯｸｽﾛｰ",null,26,null,62,"小W ｼﾞｬﾍﾞ投",null,62,null,null,25,"中学男子円盤投(1.500kg)"]
[14,"神奈川県",26,null,110,"三笠中",110,null,27,"小M 100m",null,27,null,63,"未就学 60m",null,63,null,null,26,"中学男子ジャベリックスロｰ"]
[15,"山梨県",27,null,111,"三笠萱野中",111,null,28,"小M 800m",null,28,null,64,"W 5000mW","５０００ｍW",64,0,null,27,"小学男子100m"]
[16,"新潟県",28,null,112,"美唄中",112,null,29,"小M 1500m",null,29,{"$nulls":7},28,"小学（3・4年）男子800m"]
[17,"長野県",29,null,113,"美唄東中",113,null,30,"小M 80mH",null,30,{"$nulls":7},29,"小学（5・6年）男子1500m"]
[18,"富山県",30,null,114,"夕張中",114,null,33,"小M 走高跳",null,33,{"$nulls":7},30,"小学（5・6年）男子80mH"]
[19,"石川県",31,null,115,"由仁中",115,null,34,"小M 走幅跳",null,34,{"$nulls":7},31,"小学男子4X100mR"]
[20,"福井県",32,null,116,"栗山中",116,null,35,"小M ｼﾞｬﾍﾞ投",null,35,{"$nulls":7},32,"小学混合4X100mR"]
[21,"静岡県",33,null,117,"長沼中",117,null,36,"高M 5000mW","５０００ｍW",36,0,{"$nulls":6},33,"小学男子走高跳"]
[22,"愛知県",34,null,118,"南幌中",118,null,37,"高M 3000mSC","３０００ｍSC",37,0,{"$nulls":6},34,"小学男子走幅跳"]
[23,"三重県",35,null,119,"月形中",119,null,63,"未就学 60m",null,63,{"$nulls":7},35,"小学男子ジャベボール投"]
[24,"岐阜県",36,null,120,"芦別中",120,{"$nulls":12},36,"中･高･一般女子100m"]
[25,"滋賀県",37,null,121,"芦別啓成中",121,{"$nulls":12},37,"中･高･一般女子200m"]
[26,"京都府",38,null,122,"赤平中",122,{"$nulls":12},38,"中･高･一般女子800m"]
[27,"大阪府",39,null,123,"滝川開西中",123,{"$nulls":12},39,"中･高･一般女子1500m"]
[28,"兵庫県",40,null,124,"滝川明苑中",124,{"$nulls":12},40,"中･高･一般女子4X100mR"]
[29,"奈良県",41,null,125,"滝川江陵中",125,{"$nulls":12},41,"中･高･一般女子走高跳"]
[30,"和歌山県",42,null,126,"滝川江部乙中",126,{"$nulls":6},46,"一 A",null,40,null,null,42,"中･高･一般女子棒高跳"]
[31,"鳥取県",43,null,127,"砂川中",127,{"$nulls":6},46,"一 B",null,40,null,null,43,"中･高･一般女子走幅跳"]
[32,"島根県",44,null,128,"砂川石山中",128,null,6,"一 A",null,6,null,46,"一 C",null,40,null,null,44,"中･高･一般女子三段跳"]
[33,"岡山県",45,null,129,"歌志内学園",129,null,6,"一 B",null,6,null,59,"小 A",null,59,null,null,45,"中･高･一般女子円盤投(1.000kg)"]
[34,"広島県",46,null,130,"上砂川中",130,null,6,"一 C",null,6,null,59,"小 B",null,59,null,null,46,"高校･一般女子400m"]
[35,"山口県",47,null,131,"奈井江中",131,null,31,"小 A",null,31,null,59,"小 C",null,59,null,null,47,"高校･一般女子3000m"]
[36,"香川県",48,null,132,"新十津川中",132,null,31,"小 B",null,31,null,32,"混合A",null,32,null,null,48,"高校･一般女子100mH(0.838m)"]
[37,"徳島県",49,null,133,"浦臼中",133,null,31,"小 C",null,31,null,32,"混合B",null,32,null,null,49,"高校･一般女子400mH(0.762m)"]
[38,"愛媛県",50,null,134,"深川中",134,null,32,"混合A",null,32,null,32,"混合C",null,32,null,null,50,"高校･一般女子砲丸投(4.000kg)"]
[39,"高知県",51,null,135,"深川一已中",135,null,32,"混合B",null,32,{"$nulls":7},51,"高校･一般女子ハンマー投(4.000kg)"]
[40,"福岡県",52,null,136,"妹背牛中",136,null,32,"混合C",null,32,{"$nulls":7},52,"高校･一般女子やり投(600g)"]
[41,"佐賀県",53,null,137,"秩父別中",137,{"$nulls":6},46,"高校･一般女子400m",null,40,null,null,53,"中学女子100mH(0.762m)"]
[42,"長崎県",54,null,138,"沼田中",138,{"$nulls":6},59,"小学女子4X100mR",null,59,null,null,54,"中学女子砲丸投(2.721kg)"]
[43,"熊本県",55,null,139,"雨竜中",139,null,6,"中･高･一般男子4X100mR",null,6,null,32,"小学混合4X100mR",null,32,null,null,55,"中学女子ジャベリックスロｰ"]
[44,"大分県",56,null,140,"北竜中",140,null,31,"小学男子4X100mR",null,31,{"$nulls":7},56,"小学女子100m"]
[45,"宮崎県",57,null,201,"岩見沢農業高",201,null,32,"小学混合4X100mR",null,32,{"$nulls":7},57,"小学女子800m"]
[46,"鹿児島県",58,null,202,"滝川高",202,{"$nulls":12},58,"小学（5・6年）女子80mH"]
[47,"沖縄県",59,null,203,"滝川西高",203,{"$nulls":12},59,"小学女子4X100mR"]
[{"$nulls":4},204,"岩見沢東高",204,{"$nulls":12},60,"小学女子走高跳"]
[{"$nulls":4},205,"岩見沢緑陵高",205,{"$nulls":12},61,"小学女子走幅跳"]
[{"$nulls":4},206,"芦別高",206,{"$nulls":12},62,"小学女子ジャベボール投"]
[{"$nulls":4},207,"美唄尚栄高",207,{"$nulls":12},63,"未就学児混合60m"]
[{"$nulls":4},208,"岩見沢西高",208]
[{"$nulls":4},209,"砂川高",209]
[{"$nulls":4},210,"深川西高",210]
[{"$nulls":4},211,"深川東高",211]
[{"$nulls":4},212,"滝川工業高",212]
[{"$nulls":4},213,"月形高",213]
[{"$nulls":4},214,"長沼高",214]
[{"$nulls":4},215,"美唄聖華高",215]
[{"$nulls":4},216,"夕張高",216]
[{"$nulls":4},217,"三笠高",217]
[{"$nulls":4},218,"南幌高",218]
[{"$nulls":4},219,"奈井江商業高",219]
[{"$nulls":4},220,"栗山高",220]
[{"$nulls":4},221,"新十津川農業高",221]
[{"$nulls":4},222,"クラーク記念国際高",222]
[]
[]
[{"$nulls":4},301,"空知陸協",301]
[{"$nulls":4},302,"北教大 岩見沢",302]
[{"$nulls":4},999,"その他",999]